Index of /checkResults/devel/bioc-LATEST/epigraHMM/raw-results
Name
Last modified
Size
Description
Parent Directory
-
kjohnson/
07-Jul-2022 00:10
-
lconway/
07-Jul-2022 00:08
-
nebbiolo2/
07-Jul-2022 00:05
-
palomino4/
07-Jul-2022 00:06
-
info.dcf
07-Jul-2022 00:10
271