Back to Multiple platform build/check report for BioC 3.15
ABCD[E]FGHIJKLMNOPQRSTUVWXYZ

This page was generated on 2022-01-25 11:07:10 -0500 (Tue, 25 Jan 2022).

HostnameOSArch (*)R versionInstalled pkgs
nebbiolo1Linux (Ubuntu 20.04.4 LTS)x86_64R Under development (unstable) (2022-01-05 r81451) -- "Unsuffered Consequences" 4164
riesling1Windows Server 2019 Standardx64R Under development (unstable) (2021-11-21 r81221) -- "Unsuffered Consequences" 4059
palomino3Windows Server 2022 Datacenterx64R Under development (unstable) (2021-12-21 r81400 ucrt) -- "Unsuffered Consequences" 4001
merida1macOS 10.14.6 Mojavex86_64R Under development (unstable) (2022-01-05 r81451) -- "Unsuffered Consequences" 4118
Click on any hostname to see more info about the system (e.g. compilers)      (*) as reported by 'uname -p', except on Windows and Mac OS X

INSTALL results for epigenomix on riesling1


To the developers/maintainers of the epigenomix package:
- Please allow up to 24 hours (and sometimes 48 hours) for your latest push to git@git.bioconductor.org:packages/epigenomix.git to
reflect on this report. See How and When does the builder pull? When will my changes propagate? here for more information.
- Make sure to use the following settings in order to reproduce any error or warning you see on this page.

raw results

Package 588/2075HostnameOS / ArchINSTALLBUILDCHECKBUILD BIN
epigenomix 1.35.1  (landing page)
Hans-Ulrich Klein
Snapshot Date: 2022-01-24 13:55:18 -0500 (Mon, 24 Jan 2022)
git_url: https://git.bioconductor.org/packages/epigenomix
git_branch: master
git_last_commit: bf5904f
git_last_commit_date: 2021-11-18 19:30:22 -0500 (Thu, 18 Nov 2021)
nebbiolo1Linux (Ubuntu 20.04.4 LTS) / x86_64  OK    OK    OK  UNNEEDED, same version is already published
riesling1Windows Server 2019 Standard / x64  OK    OK    OK    OK  
palomino3Windows Server 2022 Datacenter / x64  OK    OK    OK    OK  NO, package depends on 'Biobase' which is not available
merida1macOS 10.14.6 Mojave / x86_64  OK    OK    OK    OK  UNNEEDED, same version is already published

Summary

Package: epigenomix
Version: 1.35.1
Command: D:\biocbuild\bbs-3.15-bioc\R\bin\R.exe CMD INSTALL epigenomix
StartedAt: 2022-01-24 15:57:54 -0500 (Mon, 24 Jan 2022)
EndedAt: 2022-01-24 15:58:51 -0500 (Mon, 24 Jan 2022)
EllapsedTime: 57.7 seconds
RetCode: 0
Status:   OK  

Command output

##############################################################################
##############################################################################
###
### Running command:
###
###   D:\biocbuild\bbs-3.15-bioc\R\bin\R.exe CMD INSTALL epigenomix
###
##############################################################################
##############################################################################


* installing to library 'D:/biocbuild/bbs-3.15-bioc/R/library'
* installing *source* package 'epigenomix' ...
** using staged installation
** R
** data
** inst
** byte-compile and prepare package for lazy loading
** help
*** installing help indices
  converting help for package 'epigenomix'
    finding HTML links ... done
    ChIPseqSet-class                        html  
    finding level-2 HTML links ... done

    MixModel-class                          html  
    MixModelBayes-class                     html  
    MixModelML-class                        html  
    MixtureComponent-class                  html  
    bayesMixModel                           html  
    calculateCrossCorrelation               html  
    eSet                                    html  
    fpkm                                    html  
    getAlignmentQuality                     html  
    integrateData                           html  
    mappedReads                             html  
    matchProbeToPromoter                    html  
    mlMixModel                              html  
    normalize                               html  
    normalizeChIP                           html  
    plotChains                              html  
    plotClassification                      html  
    plotComponents                          html  
    summarizeReads                          html  
    transToTSS                              html  
** building package indices
** installing vignettes
** testing if installed package can be loaded from temporary location
** testing if installed package can be loaded from final location
** testing if installed package keeps a record of temporary installation path
* DONE (epigenomix)
Making 'packages.html' ... done