Index of /checkResults/devel/bioc-LATEST/epigenomix/raw-results/lconway

[ICO]NameLast modifiedSizeDescription

[DIR]Parent Directory  -  
[TXT]buildbin-out.txt25-Jun-2022 00:07 1.2K 
[   ]buildbin-summary.dcf25-Jun-2022 00:07 548  
[TXT]buildsrc-out.txt25-Jun-2022 00:07 1.1K 
[   ]buildsrc-summary.dcf25-Jun-2022 00:07 436  
[TXT]checksrc-out.txt25-Jun-2022 00:07 3.3K 
[   ]checksrc-summary.dcf25-Jun-2022 00:07 456  
[TXT]install-out.txt25-Jun-2022 00:07 1.0K 
[   ]install-summary.dcf25-Jun-2022 00:07 275