Index of /checkResults/devel/bioc-LATEST/epigenomix/raw-results

[ICO]NameLast modifiedSizeDescription

[DIR]Parent Directory  -  
[DIR]palomino4/25-Jun-2022 00:06 -  
[DIR]nebbiolo2/30-Jun-2022 00:04 -  
[   ]info.dcf30-Jun-2022 00:05 279  
[DIR]lconway/30-Jun-2022 00:05 -