Back to Multiple platform build/check report for BioC 3.15
ABCD[E]FGHIJKLMNOPQRSTUVWXYZ

This page was generated on 2022-01-20 11:07:13 -0500 (Thu, 20 Jan 2022).

HostnameOSArch (*)R versionInstalled pkgs
nebbiolo1Linux (Ubuntu 20.04.4 LTS)x86_64R Under development (unstable) (2022-01-05 r81451) -- "Unsuffered Consequences" 4162
riesling1Windows Server 2019 Standardx64R Under development (unstable) (2021-11-21 r81221) -- "Unsuffered Consequences" 4057
palomino3Windows Server 2022 Datacenterx64R Under development (unstable) (2021-12-21 r81400 ucrt) -- "Unsuffered Consequences" 3999
merida1macOS 10.14.6 Mojavex86_64R Under development (unstable) (2022-01-05 r81451) -- "Unsuffered Consequences" 4116
Click on any hostname to see more info about the system (e.g. compilers)      (*) as reported by 'uname -p', except on Windows and Mac OS X

BUILD results for epialleleR on riesling1


To the developers/maintainers of the epialleleR package:
- Please allow up to 24 hours (and sometimes 48 hours) for your latest push to git@git.bioconductor.org:packages/epialleleR.git to
reflect on this report. See How and When does the builder pull? When will my changes propagate? here for more information.
- Make sure to use the following settings in order to reproduce any error or warning you see on this page.

raw results

Package 585/2074HostnameOS / ArchINSTALLBUILDCHECKBUILD BIN
epialleleR 1.3.4  (landing page)
Oleksii Nikolaienko
Snapshot Date: 2022-01-19 13:55:26 -0500 (Wed, 19 Jan 2022)
git_url: https://git.bioconductor.org/packages/epialleleR
git_branch: master
git_last_commit: b40ff92
git_last_commit_date: 2022-01-11 06:34:50 -0500 (Tue, 11 Jan 2022)
nebbiolo1Linux (Ubuntu 20.04.4 LTS) / x86_64  OK    OK    OK  UNNEEDED, same version is already published
riesling1Windows Server 2019 Standard / x64  OK    OK    WARNINGS    OK  
palomino3Windows Server 2022 Datacenter / x64  OK    OK    WARNINGS    OK  NO, package depends on 'GenomicRanges' which is not available
merida1macOS 10.14.6 Mojave / x86_64  OK    OK    OK    OK  UNNEEDED, same version is already published

Summary

Package: epialleleR
Version: 1.3.4
Command: chmod a+r epialleleR -R && D:\biocbuild\bbs-3.15-bioc\R\bin\R.exe CMD build --keep-empty-dirs --no-resave-data epialleleR
StartedAt: 2022-01-19 16:39:26 -0500 (Wed, 19 Jan 2022)
EndedAt: 2022-01-19 16:40:51 -0500 (Wed, 19 Jan 2022)
EllapsedTime: 85.8 seconds
RetCode: 0
Status:   OK  
PackageFile: epialleleR_1.3.4.tar.gz
PackageFileSize: 1.709 MiB

Command output

##############################################################################
##############################################################################
###
### Running command:
###
###   chmod a+r epialleleR -R && D:\biocbuild\bbs-3.15-bioc\R\bin\R.exe CMD build --keep-empty-dirs --no-resave-data epialleleR
###
##############################################################################
##############################################################################


* checking for file 'epialleleR/DESCRIPTION' ... OK
* preparing 'epialleleR':
* checking DESCRIPTION meta-information ... OK
* cleaning src
* installing the package to build vignettes
* creating vignettes ... OK
* cleaning src
* checking for LF line-endings in source and make files and shell scripts
* checking for empty or unneeded directories
* building 'epialleleR_1.3.4.tar.gz'