Index of /checkResults/devel/bioc-LATEST/epialleleR/raw-results/palomino4

[ICO]NameLast modifiedSizeDescription

[DIR]Parent Directory  -  
[TXT]buildbin-out.txt02-Jul-2022 00:06 50K 
[   ]buildbin-summary.dcf02-Jul-2022 00:06 549  
[TXT]buildsrc-out.txt02-Jul-2022 00:06 885  
[   ]buildsrc-summary.dcf02-Jul-2022 00:06 462  
[TXT]checksrc-out.txt02-Jul-2022 00:06 7.1K 
[   ]checksrc-summary.dcf02-Jul-2022 00:06 466  
[TXT]install-out.txt02-Jul-2022 00:06 51K 
[   ]install-summary.dcf02-Jul-2022 00:06 650