Name | Last modified | Size | Description | |
---|---|---|---|---|
Parent Directory | - | |||
buildbin-out.txt | 29-Mar-2024 00:37 | 8.4K | ||
buildbin-summary.dcf | 29-Mar-2024 00:37 | 534 | ||
buildsrc-out.txt | 29-Mar-2024 00:37 | 886 | ||
buildsrc-summary.dcf | 29-Mar-2024 00:37 | 465 | ||
checksrc-out.txt | 29-Mar-2024 00:37 | 4.6K | ||
checksrc-summary.dcf | 29-Mar-2024 00:37 | 459 | ||
install-out.txt | 29-Mar-2024 00:37 | 8.2K | ||
install-summary.dcf | 29-Mar-2024 00:37 | 275 | ||