Name | Last modified | Size | Description | |
---|---|---|---|---|
Parent Directory | - | |||
buildsrc-out.txt | 29-Mar-2024 00:36 | 848 | ||
buildsrc-summary.dcf | 29-Mar-2024 00:36 | 426 | ||
checksrc-out.txt | 29-Mar-2024 00:36 | 4.6K | ||
checksrc-summary.dcf | 29-Mar-2024 00:36 | 426 | ||
install-out.txt | 29-Mar-2024 00:36 | 7.7K | ||
install-summary.dcf | 29-Mar-2024 00:36 | 266 | ||