![]() | Name | Last modified | Size | Description |
---|---|---|---|---|
![]() | Parent Directory | - | ||
![]() | buildbin-out.txt | 01-Oct-2023 00:38 | 11K | |
![]() | buildbin-summary.dcf | 01-Oct-2023 00:38 | 546 | |
![]() | buildsrc-out.txt | 01-Oct-2023 00:38 | 857 | |
![]() | buildsrc-summary.dcf | 01-Oct-2023 00:38 | 435 | |
![]() | checksrc-out.txt | 01-Oct-2023 00:38 | 4.8K | |
![]() | checksrc-summary.dcf | 01-Oct-2023 00:38 | 460 | |
![]() | install-out.txt | 01-Oct-2023 00:38 | 8.8K | |
![]() | install-summary.dcf | 01-Oct-2023 00:38 | 275 | |