Back to Multiple platform build/check report for BioC 3.19:   simplified   long
ABCD[E]FGHIJKLMNOPQRSTUVWXYZ

This page was generated on 2024-03-04 11:37:47 -0500 (Mon, 04 Mar 2024).

HostnameOSArch (*)R versionInstalled pkgs
nebbiolo1Linux (Ubuntu 22.04.3 LTS)x86_64R Under development (unstable) (2024-01-16 r85808) -- "Unsuffered Consequences" 4676
palomino3Windows Server 2022 Datacenterx64R Under development (unstable) (2024-01-14 r85805 ucrt) -- "Unsuffered Consequences" 4414
merida1macOS 12.7.1 Montereyx86_64R Under development (unstable) (2024-01-16 r85808) -- "Unsuffered Consequences" 4441
kunpeng2Linux (openEuler 22.03 LTS-SP1)aarch64R Under development (unstable) (2024-01-16 r85812) -- "Unsuffered Consequences" 4417
Click on any hostname to see more info about the system (e.g. compilers)      (*) as reported by 'uname -p', except on Windows and Mac OS X

Package 656/2251HostnameOS / ArchINSTALLBUILDCHECKBUILD BIN
epiNEM 1.27.0  (landing page)
Martin Pirkl
Snapshot Date: 2024-03-01 14:00:22 -0500 (Fri, 01 Mar 2024)
git_url: https://git.bioconductor.org/packages/epiNEM
git_branch: devel
git_last_commit: 0164938
git_last_commit_date: 2023-10-24 10:55:55 -0500 (Tue, 24 Oct 2023)
nebbiolo1Linux (Ubuntu 22.04.3 LTS) / x86_64  OK    OK    OK  UNNEEDED, same version is already published
palomino3Windows Server 2022 Datacenter / x64  OK    OK    OK    OK  UNNEEDED, same version is already published
merida1macOS 12.7.1 Monterey / x86_64  OK    OK    OK    OK  UNNEEDED, same version is already published
kunpeng2Linux (openEuler 22.03 LTS-SP1) / aarch64  OK    OK    OK  

CHECK results for epiNEM on palomino3


To the developers/maintainers of the epiNEM package:
- Allow up to 24 hours (and sometimes 48 hours) for your latest push to git@git.bioconductor.org:packages/epiNEM.git to reflect on this report. See Troubleshooting Build Report for more information.
- Use the following Renviron settings to reproduce errors and warnings.
- If 'R CMD check' started to fail recently on the Linux builder(s) over a missing dependency, add the missing dependency to 'Suggests:' in your DESCRIPTION file. See Renviron.bioc for more information.

raw results


Summary

Package: epiNEM
Version: 1.27.0
Command: F:\biocbuild\bbs-3.19-bioc\R\bin\R.exe CMD check --no-multiarch --install=check:epiNEM.install-out.txt --library=F:\biocbuild\bbs-3.19-bioc\R\library --no-vignettes --timings epiNEM_1.27.0.tar.gz
StartedAt: 2024-03-02 02:40:08 -0500 (Sat, 02 Mar 2024)
EndedAt: 2024-03-02 02:42:47 -0500 (Sat, 02 Mar 2024)
EllapsedTime: 158.4 seconds
RetCode: 0
Status:   OK  
CheckDir: epiNEM.Rcheck
Warnings: 0

Command output

##############################################################################
##############################################################################
###
### Running command:
###
###   F:\biocbuild\bbs-3.19-bioc\R\bin\R.exe CMD check --no-multiarch --install=check:epiNEM.install-out.txt --library=F:\biocbuild\bbs-3.19-bioc\R\library --no-vignettes --timings epiNEM_1.27.0.tar.gz
###
##############################################################################
##############################################################################


* using log directory 'F:/biocbuild/bbs-3.19-bioc/meat/epiNEM.Rcheck'
* using R Under development (unstable) (2024-01-14 r85805 ucrt)
* using platform: x86_64-w64-mingw32
* R was compiled by
    gcc.exe (GCC) 12.3.0
    GNU Fortran (GCC) 12.3.0
* running under: Windows Server 2022 x64 (build 20348)
* using session charset: UTF-8
* using option '--no-vignettes'
* checking for file 'epiNEM/DESCRIPTION' ... OK
* checking extension type ... Package
* this is package 'epiNEM' version '1.27.0'
* package encoding: UTF-8
* checking package namespace information ... OK
* checking package dependencies ... OK
* checking if this is a source package ... OK
* checking if there is a namespace ... OK
* checking for hidden files and directories ... OK
* checking for portable file names ... OK
* checking whether package 'epiNEM' can be installed ... OK
* checking installed package size ... OK
* checking package directory ... OK
* checking 'build' directory ... OK
* checking DESCRIPTION meta-information ... OK
* checking top-level files ... OK
* checking for left-over files ... OK
* checking index information ... OK
* checking package subdirectories ... OK
* checking R files for non-ASCII characters ... OK
* checking R files for syntax errors ... OK
* checking whether the package can be loaded ... OK
* checking whether the package can be loaded with stated dependencies ... OK
* checking whether the package can be unloaded cleanly ... OK
* checking whether the namespace can be loaded with stated dependencies ... OK
* checking whether the namespace can be unloaded cleanly ... OK
* checking dependencies in R code ... OK
* checking S3 generic/method consistency ... OK
* checking replacement functions ... OK
* checking foreign function calls ... NOTE
Foreign function call to a different package:
  .Call("getTruthTable_R", ..., PACKAGE = "BoolNet")
See chapter 'System and foreign language interfaces' in the 'Writing R
Extensions' manual.
* checking R code for possible problems ... NOTE
SimEpiNEM: no visible global function definition for 'epiNEM2Bg'
SimEpiNEM: no visible global function definition for 'dummyCNOlist'
SimEpiNEM: no visible global function definition for 'readSIF'
SimEpiNEM: no visible global function definition for 'preprocessing'
SimEpiNEM: no visible global function definition for 'absorption'
SimEpiNEM: no visible global function definition for 'bnem'
SimEpiNEM: no visible binding for global variable 'popSize'
SimEpiNEM: no visible global function definition for 'computeFc'
SimEpiNEM: no visible global function definition for
  'simulateStatesRecursive'
SimEpiNEM: no visible global function definition for 'dnf2adj'
epiNEM: no visible binding for global variable 'inference'
plot.epiSim: no visible binding for global variable 'sim'
plot.epiSim: no visible global function definition for 'layout'
plot.epiSim: no visible global function definition for 'boxplot'
plot.epiSim: no visible global function definition for 'abline'
plot.epiSim: no visible global function definition for 'axis'
Undefined global functions or variables:
  abline absorption axis bnem boxplot computeFc dnf2adj dummyCNOlist
  epiNEM2Bg inference layout popSize preprocessing readSIF sim
  simulateStatesRecursive
Consider adding
  importFrom("graphics", "abline", "axis", "boxplot", "layout")
to your NAMESPACE file.
* checking Rd files ... OK
* checking Rd metadata ... OK
* checking Rd cross-references ... OK
* checking for missing documentation entries ... OK
* checking for code/documentation mismatches ... OK
* checking Rd \usage sections ... OK
* checking Rd contents ... OK
* checking for unstated dependencies in examples ... OK
* checking contents of 'data' directory ... OK
* checking data for non-ASCII characters ... OK
* checking LazyData ... OK
* checking data for ASCII and uncompressed saves ... OK
* checking files in 'vignettes' ... OK
* checking examples ... OK
Examples with CPU (user + system) or elapsed time > 5s
               user system elapsed
epiScreen      9.35   0.20    9.55
plot.epiScreen 9.11   0.06    9.17
SimEpiNEM      6.17   0.14    6.31
plot.epiSim    6.11   0.09    6.21
* checking for unstated dependencies in 'tests' ... OK
* checking tests ...
  Running 'runTests.R'
 OK
* checking for unstated dependencies in vignettes ... OK
* checking package vignettes ... OK
* checking running R code from vignettes ... SKIPPED
* checking re-building of vignette outputs ... SKIPPED
* checking PDF version of manual ... OK
* DONE

Status: 2 NOTEs
See
  'F:/biocbuild/bbs-3.19-bioc/meat/epiNEM.Rcheck/00check.log'
for details.



Installation output

epiNEM.Rcheck/00install.out

##############################################################################
##############################################################################
###
### Running command:
###
###   F:\biocbuild\bbs-3.19-bioc\R\bin\R.exe CMD INSTALL epiNEM
###
##############################################################################
##############################################################################


* installing to library 'F:/biocbuild/bbs-3.19-bioc/R/library'
* installing *source* package 'epiNEM' ...
** using staged installation
** R
** data
*** moving datasets to lazyload DB
** inst
** byte-compile and prepare package for lazy loading
** help
*** installing help indices
** building package indices
** installing vignettes
** testing if installed package can be loaded from temporary location
** testing if installed package can be loaded from final location
** testing if installed package keeps a record of temporary installation path
* DONE (epiNEM)

Tests output

epiNEM.Rcheck/tests/runTests.Rout


R Under development (unstable) (2024-01-14 r85805 ucrt) -- "Unsuffered Consequences"
Copyright (C) 2024 The R Foundation for Statistical Computing
Platform: x86_64-w64-mingw32/x64

R is free software and comes with ABSOLUTELY NO WARRANTY.
You are welcome to redistribute it under certain conditions.
Type 'license()' or 'licence()' for distribution details.

R is a collaborative project with many contributors.
Type 'contributors()' for more information and
'citation()' on how to cite R or R packages in publications.

Type 'demo()' for some demos, 'help()' for on-line help, or
'help.start()' for an HTML browser interface to help.
Type 'q()' to quit R.

> BiocGenerics:::testPackage("epiNEM")
[1] "Progress (of 1 iterations):"

1...


RUNIT TEST PROTOCOL -- Sat Mar  2 02:42:37 2024 
*********************************************** 
Number of test functions: 0 
Number of errors: 0 
Number of failures: 0 

 
1 Test Suite : 
epiNEM RUnit Tests - 0 test functions, 0 errors, 0 failures
Number of test functions: 0 
Number of errors: 0 
Number of failures: 0 
> 
> proc.time()
   user  system elapsed 
   5.81    0.46    6.25 

Example timings

epiNEM.Rcheck/epiNEM-Ex.timings

nameusersystemelapsed
AddLogicGates000
CreateExtendedAdjacency0.080.000.07
CreateRandomGraph000
CreateTopology0.060.000.07
ExtendTopology0.060.000.06
GenerateData0.030.010.05
HeatmapOP0.110.020.12
Mll000
SimEpiNEM6.170.146.31
epiAnno0.230.000.23
epiNEM0.830.020.86
epiScreen9.350.209.55
perm.rank.test0.260.000.26
plot.epiNEM0.720.040.75
plot.epiScreen9.110.069.17
plot.epiSim6.110.096.21
rank.enrichment0.480.020.50
sameith_GO000
sameith_string000
samscreen0.020.000.01
sim000
wageningen_GO000
wageningen_string000
wagscreen000