Back to Multiple platform build/check report for BioC 3.19:   simplified   long
ABCD[E]FGHIJKLMNOPQRSTUVWXYZ

This page was generated on 2024-02-22 12:48:06 -0500 (Thu, 22 Feb 2024).

HostnameOSArch (*)R versionInstalled pkgs
nebbiolo1Linux (Ubuntu 22.04.3 LTS)x86_64R Under development (unstable) (2024-01-16 r85808) -- "Unsuffered Consequences" 4657
palomino3Windows Server 2022 Datacenterx64R Under development (unstable) (2024-01-14 r85805 ucrt) -- "Unsuffered Consequences" 4397
Click on any hostname to see more info about the system (e.g. compilers)      (*) as reported by 'uname -p', except on Windows and Mac OS X

Package 655/2244HostnameOS / ArchINSTALLBUILDCHECKBUILD BIN
epiNEM 1.27.0  (landing page)
Martin Pirkl
Snapshot Date: 2024-02-21 14:10:10 -0500 (Wed, 21 Feb 2024)
git_url: https://git.bioconductor.org/packages/epiNEM
git_branch: devel
git_last_commit: 0164938
git_last_commit_date: 2023-10-24 10:55:55 -0500 (Tue, 24 Oct 2023)
nebbiolo1Linux (Ubuntu 22.04.3 LTS) / x86_64  OK    OK    OK  UNNEEDED, same version is already published
palomino3Windows Server 2022 Datacenter / x64  OK    OK    OK    OK  UNNEEDED, same version is already published

INSTALL results for epiNEM on nebbiolo1


To the developers/maintainers of the epiNEM package:
- Allow up to 24 hours (and sometimes 48 hours) for your latest push to git@git.bioconductor.org:packages/epiNEM.git to reflect on this report. See Troubleshooting Build Report for more information.
- Use the following Renviron settings to reproduce errors and warnings.
- If 'R CMD check' started to fail recently on the Linux builder(s) over a missing dependency, add the missing dependency to 'Suggests:' in your DESCRIPTION file. See Renviron.bioc for more information.

raw results


Summary

Package: epiNEM
Version: 1.27.0
Command: /home/biocbuild/bbs-3.19-bioc/R/bin/R CMD INSTALL epiNEM
StartedAt: 2024-02-21 15:42:28 -0500 (Wed, 21 Feb 2024)
EndedAt: 2024-02-21 15:42:45 -0500 (Wed, 21 Feb 2024)
EllapsedTime: 17.6 seconds
RetCode: 0
Status:   OK  

Command output

##############################################################################
##############################################################################
###
### Running command:
###
###   /home/biocbuild/bbs-3.19-bioc/R/bin/R CMD INSTALL epiNEM
###
##############################################################################
##############################################################################


* installing to library ‘/home/biocbuild/bbs-3.19-bioc/R/site-library’
* installing *source* package ‘epiNEM’ ...
** using staged installation
** R
** data
*** moving datasets to lazyload DB
** inst
** byte-compile and prepare package for lazy loading
** help
*** installing help indices
** building package indices
** installing vignettes
** testing if installed package can be loaded from temporary location
** testing if installed package can be loaded from final location
** testing if installed package keeps a record of temporary installation path
* DONE (epiNEM)