Back to Multiple platform build/check report for BioC 3.15
ABCD[E]FGHIJKLMNOPQRSTUVWXYZ

This page was generated on 2022-01-24 11:07:16 -0500 (Mon, 24 Jan 2022).

HostnameOSArch (*)R versionInstalled pkgs
nebbiolo1Linux (Ubuntu 20.04.4 LTS)x86_64R Under development (unstable) (2022-01-05 r81451) -- "Unsuffered Consequences" 4163
riesling1Windows Server 2019 Standardx64R Under development (unstable) (2021-11-21 r81221) -- "Unsuffered Consequences" 4058
palomino3Windows Server 2022 Datacenterx64R Under development (unstable) (2021-12-21 r81400 ucrt) -- "Unsuffered Consequences" 4000
merida1macOS 10.14.6 Mojavex86_64R Under development (unstable) (2022-01-05 r81451) -- "Unsuffered Consequences" 4117
Click on any hostname to see more info about the system (e.g. compilers)      (*) as reported by 'uname -p', except on Windows and Mac OS X

INSTALL results for ensembldb on riesling1


To the developers/maintainers of the ensembldb package:
- Please allow up to 24 hours (and sometimes 48 hours) for your latest push to git@git.bioconductor.org:packages/ensembldb.git to
reflect on this report. See How and When does the builder pull? When will my changes propagate? here for more information.
- Make sure to use the following settings in order to reproduce any error or warning you see on this page.

raw results

Package 583/2075HostnameOS / ArchINSTALLBUILDCHECKBUILD BIN
ensembldb 2.19.7  (landing page)
Johannes Rainer
Snapshot Date: 2022-01-23 13:55:15 -0500 (Sun, 23 Jan 2022)
git_url: https://git.bioconductor.org/packages/ensembldb
git_branch: master
git_last_commit: a6e2257
git_last_commit_date: 2022-01-12 05:24:49 -0500 (Wed, 12 Jan 2022)
nebbiolo1Linux (Ubuntu 20.04.4 LTS) / x86_64  OK    ERROR  skipped
riesling1Windows Server 2019 Standard / x64  OK    ERROR  skippedskipped
palomino3Windows Server 2022 Datacenter / x64  OK    ERROR  skippedskipped
merida1macOS 10.14.6 Mojave / x86_64  OK    ERROR  skippedskipped

Summary

Package: ensembldb
Version: 2.19.7
Command: D:\biocbuild\bbs-3.15-bioc\R\bin\R.exe CMD INSTALL ensembldb
StartedAt: 2022-01-23 16:05:57 -0500 (Sun, 23 Jan 2022)
EndedAt: 2022-01-23 16:06:55 -0500 (Sun, 23 Jan 2022)
EllapsedTime: 58.4 seconds
RetCode: 0
Status:   OK  

Command output

##############################################################################
##############################################################################
###
### Running command:
###
###   D:\biocbuild\bbs-3.15-bioc\R\bin\R.exe CMD INSTALL ensembldb
###
##############################################################################
##############################################################################


* installing to library 'D:/biocbuild/bbs-3.15-bioc/R/library'
* installing *source* package 'ensembldb' ...
** using staged installation
** R
** inst
** byte-compile and prepare package for lazy loading
** help
*** installing help indices
  converting help for package 'ensembldb'
    finding HTML links ... done
    Deprecated                              html  
    EnsDb-AnnotationDbi                     html  
    EnsDb-class                             html  
    EnsDb-exonsBy                           html  
    finding level-2 HTML links ... done

    EnsDb-lengths                           html  
    EnsDb-seqlevels                         html  
    EnsDb-sequences                         html  
    EnsDb-utils                             html  
    EnsDb                                   html  
    Filter-classes                          html  
    ProteinFunctionality                    html  
    cdsToTranscript                         html  
    convertFilter                           html  
    genomeToProtein                         html  
    genomeToTranscript                      html  
    global-filters                          html  
    hasProteinData-EnsDb-method             html  
    listEnsDbs                              html  
    makeEnsemblDbPackage                    html  
    proteinToGenome                         html  
    proteinToTranscript                     html  
    runEnsDbApp                             html  
    transcriptToCds                         html  
    transcriptToGenome                      html  
    transcriptToProtein                     html  
    useMySQL-EnsDb-method                   html  
** building package indices
** installing vignettes
** testing if installed package can be loaded from temporary location
** testing if installed package can be loaded from final location
** testing if installed package keeps a record of temporary installation path
* DONE (ensembldb)
Making 'packages.html' ... done