Index of /checkResults/devel/bioc-LATEST/ensemblVEP/raw-results/merida1
Name
Last modified
Size
Description
Parent Directory
-
buildsrc-out.txt
05-Mar-2024 01:39
5.0K
buildsrc-summary.dcf
05-Mar-2024 01:39
350
install-out.txt
05-Mar-2024 01:39
1.3K
install-summary.dcf
05-Mar-2024 01:39
275