Index of /checkResults/devel/bioc-LATEST/ensemblVEP/raw-results/lconway
Name
Last modified
Size
Description
Parent Directory
-
buildsrc-out.txt
29-Mar-2024 00:39
5.3K
buildsrc-summary.dcf
29-Mar-2024 00:39
349
install-out.txt
29-Mar-2024 00:39
1.3K
install-summary.dcf
29-Mar-2024 00:39
275