Index of /checkResults/devel/bioc-LATEST/ensemblVEP/raw-results
Name
Last modified
Size
Description
Parent Directory
-
merida1/
05-Mar-2024 01:39
-
info.dcf
29-Mar-2024 00:35
296
nebbiolo1/
29-Mar-2024 00:36
-
lconway/
29-Mar-2024 00:39
-
kunpeng2/
29-Mar-2024 00:40
-