Back to Multiple platform build/check report for BioC 3.19:   simplified   long
ABCD[E]FGHIJKLMNOPQRSTUVWXYZ

This page was generated on 2024-03-01 11:38:52 -0500 (Fri, 01 Mar 2024).

HostnameOSArch (*)R versionInstalled pkgs
nebbiolo1Linux (Ubuntu 22.04.3 LTS)x86_64R Under development (unstable) (2024-01-16 r85808) -- "Unsuffered Consequences" 4676
palomino3Windows Server 2022 Datacenterx64R Under development (unstable) (2024-01-14 r85805 ucrt) -- "Unsuffered Consequences" 4414
merida1macOS 12.7.1 Montereyx86_64R Under development (unstable) (2024-01-16 r85808) -- "Unsuffered Consequences" 4441
kunpeng2Linux (openEuler 22.03 LTS-SP1)aarch64R Under development (unstable) (2024-01-16 r85812) -- "Unsuffered Consequences" 4417
Click on any hostname to see more info about the system (e.g. compilers)      (*) as reported by 'uname -p', except on Windows and Mac OS X

Package 647/2251HostnameOS / ArchINSTALLBUILDCHECKBUILD BIN
ensemblVEP 1.45.1  (landing page)
Bioconductor Package Maintainer
Snapshot Date: 2024-02-28 14:00:14 -0500 (Wed, 28 Feb 2024)
git_url: https://git.bioconductor.org/packages/ensemblVEP
git_branch: devel
git_last_commit: 7e6d1d2
git_last_commit_date: 2024-01-26 07:26:55 -0500 (Fri, 26 Jan 2024)
nebbiolo1Linux (Ubuntu 22.04.3 LTS) / x86_64  OK    OK    WARNINGS  UNNEEDED, same version is already published
palomino3Windows Server 2022 Datacenter / x64... NOT SUPPORTED ...
merida1macOS 12.7.1 Monterey / x86_64  OK    ERROR  skippedskipped
kunpeng2Linux (openEuler 22.03 LTS-SP1) / aarch64  OK    OK    WARNINGS  

INSTALL results for ensemblVEP on merida1


To the developers/maintainers of the ensemblVEP package:
- Allow up to 24 hours (and sometimes 48 hours) for your latest push to git@git.bioconductor.org:packages/ensemblVEP.git to reflect on this report. See Troubleshooting Build Report for more information.
- Use the following Renviron settings to reproduce errors and warnings.
- If 'R CMD check' started to fail recently on the Linux builder(s) over a missing dependency, add the missing dependency to 'Suggests:' in your DESCRIPTION file. See Renviron.bioc for more information.

raw results


Summary

Package: ensemblVEP
Version: 1.45.1
Command: /Library/Frameworks/R.framework/Resources/bin/R CMD INSTALL ensemblVEP
StartedAt: 2024-02-28 15:53:18 -0500 (Wed, 28 Feb 2024)
EndedAt: 2024-02-28 15:55:03 -0500 (Wed, 28 Feb 2024)
EllapsedTime: 105.2 seconds
RetCode: 0
Status:   OK  

Command output

##############################################################################
##############################################################################
###
### Running command:
###
###   /Library/Frameworks/R.framework/Resources/bin/R CMD INSTALL ensemblVEP
###
##############################################################################
##############################################################################


* installing to library ‘/Library/Frameworks/R.framework/Versions/4.4-x86_64/Resources/library’
* installing *source* package ‘ensemblVEP’ ...
** using staged installation
** R
** inst
** byte-compile and prepare package for lazy loading
** help
*** installing help indices
** building package indices
** installing vignettes
** testing if installed package can be loaded from temporary location
Warning: Package 'ensemblVEP' is deprecated and will be removed from
  Bioconductor version 3.20; Functionality has been moved to
  VariantAnnotation
** testing if installed package can be loaded from final location
Warning: Package 'ensemblVEP' is deprecated and will be removed from
  Bioconductor version 3.20; Functionality has been moved to
  VariantAnnotation
** testing if installed package keeps a record of temporary installation path
* DONE (ensemblVEP)