Name | Last modified | Size | Description | |
---|---|---|---|---|
Parent Directory | - | |||
buildsrc-out.txt | 29-Mar-2024 00:36 | 850 | ||
buildsrc-summary.dcf | 29-Mar-2024 00:36 | 420 | ||
checksrc-out.txt | 29-Mar-2024 00:36 | 5.6K | ||
checksrc-summary.dcf | 29-Mar-2024 00:36 | 422 | ||
install-out.txt | 29-Mar-2024 00:36 | 1.2K | ||
install-summary.dcf | 29-Mar-2024 00:36 | 261 | ||