Name | Last modified | Size | Description | |
---|---|---|---|---|
Parent Directory | - | |||
buildbin-out.txt | 24-Mar-2024 00:37 | 157K | ||
buildbin-summary.dcf | 24-Mar-2024 00:37 | 597 | ||
buildsrc-out.txt | 29-Mar-2024 00:37 | 1.0K | ||
buildsrc-summary.dcf | 29-Mar-2024 00:37 | 408 | ||
checksrc-out.txt | 24-Mar-2024 00:37 | 4.9K | ||
checksrc-summary.dcf | 24-Mar-2024 00:37 | 502 | ||
install-out.txt | 29-Mar-2024 00:37 | 660 | ||
install-summary.dcf | 29-Mar-2024 00:37 | 297 | ||