Name | Last modified | Size | Description | |
---|---|---|---|---|
Parent Directory | - | |||
install-summary.dcf | 29-Mar-2024 00:36 | 288 | ||
buildsrc-summary.dcf | 29-Mar-2024 00:36 | 359 | ||
checksrc-summary.dcf | 24-Mar-2024 00:36 | 469 | ||
install-out.txt | 29-Mar-2024 00:36 | 677 | ||
buildsrc-out.txt | 29-Mar-2024 00:36 | 958 | ||
checksrc-out.txt | 24-Mar-2024 00:36 | 4.4K | ||