Name | Last modified | Size | Description | |
---|---|---|---|---|
Parent Directory | - | |||
install-summary.dcf | 04-May-2024 00:38 | 298 | ||
buildsrc-summary.dcf | 04-May-2024 00:38 | 471 | ||
checksrc-summary.dcf | 04-May-2024 00:38 | 501 | ||
buildbin-summary.dcf | 04-May-2024 00:38 | 615 | ||
buildsrc-out.txt | 04-May-2024 00:38 | 965 | ||
checksrc-out.txt | 04-May-2024 00:38 | 4.4K | ||
install-out.txt | 04-May-2024 00:38 | 295K | ||
buildbin-out.txt | 04-May-2024 00:38 | 299K | ||