Name | Last modified | Size | Description | |
---|---|---|---|---|
Parent Directory | - | |||
buildbin-out.txt | 24-Mar-2024 00:39 | 302K | ||
buildbin-summary.dcf | 24-Mar-2024 00:39 | 612 | ||
buildsrc-out.txt | 29-Mar-2024 00:39 | 1.0K | ||
buildsrc-summary.dcf | 29-Mar-2024 00:39 | 369 | ||
checksrc-out.txt | 24-Mar-2024 00:39 | 4.4K | ||
checksrc-summary.dcf | 24-Mar-2024 00:39 | 498 | ||
install-out.txt | 29-Mar-2024 00:39 | 737 | ||
install-summary.dcf | 29-Mar-2024 00:39 | 298 | ||