Back to Multiple platform build/check report for BioC 3.14
ABCD[E]FGHIJKLMNOPQRSTUVWXYZ

This page was generated on 2021-10-22 12:04:24 -0400 (Fri, 22 Oct 2021).

BUILD BIN results for eisaR on riesling1

To the developers/maintainers of the eisaR package:
- Please allow up to 24 hours (and sometimes 48 hours) for your latest push to git@git.bioconductor.org:packages/eisaR.git to
reflect on this report. See How and When does the builder pull? When will my changes propagate? here for more information.
- Make sure to use the following settings in order to reproduce any error or warning you see on this page.

raw results

Package 567/2075HostnameOS / ArchINSTALLBUILDCHECKBUILD BIN
eisaR 1.5.4  (landing page)
Michael Stadler
Snapshot Date: 2021-10-21 14:50:08 -0400 (Thu, 21 Oct 2021)
git_url: https://git.bioconductor.org/packages/eisaR
git_branch: master
git_last_commit: c2c44cc
git_last_commit_date: 2021-09-09 02:41:24 -0400 (Thu, 09 Sep 2021)
nebbiolo2Linux (Ubuntu 20.04.2 LTS) / x86_64  OK    OK    OK  UNNEEDED, same version is already published
riesling1Windows Server 2019 Standard / x64  OK    OK    OK    OK  UNNEEDED, same version is already published
merida1macOS 10.14.6 Mojave / x86_64  OK    OK    OK    NA  

Summary

Package: eisaR
Version: 1.5.4
Command: rm -rf eisaR.buildbin-libdir && mkdir eisaR.buildbin-libdir && D:\biocbuild\bbs-3.14-bioc\R\bin\R.exe CMD INSTALL --merge-multiarch --build --library=eisaR.buildbin-libdir eisaR_1.5.4.tar.gz
StartedAt: 2021-10-22 05:18:03 -0400 (Fri, 22 Oct 2021)
EndedAt: 2021-10-22 05:22:06 -0400 (Fri, 22 Oct 2021)
EllapsedTime: 243.0 seconds
RetCode: 0
Status:   OK  
PackageFile: eisaR_1.5.4.zip
PackageFileSize: 1.444 MiB

Command output

##############################################################################
##############################################################################
###
### Running command:
###
###   rm -rf eisaR.buildbin-libdir && mkdir eisaR.buildbin-libdir && D:\biocbuild\bbs-3.14-bioc\R\bin\R.exe CMD INSTALL --merge-multiarch --build --library=eisaR.buildbin-libdir eisaR_1.5.4.tar.gz
###
##############################################################################
##############################################################################



install for i386

* installing *source* package 'eisaR' ...
** using staged installation
** R
** inst
** byte-compile and prepare package for lazy loading
** help
*** installing help indices
  converting help for package 'eisaR'
    finding HTML links ... done
    eisaR-package                           html  
    exportToGtf                             html  
    getFeatureRanges                        html  
    getRegionsFromTxDb                      html  
    getTx2Gene                              html  
    plotEISA                                html  
    runEISA                                 html  
** building package indices
** installing vignettes
** testing if installed package can be loaded from temporary location
** testing if installed package can be loaded from final location
** testing if installed package keeps a record of temporary installation path

install for x64

* installing *source* package 'eisaR' ...
** testing if installed package can be loaded
* MD5 sums
packaged installation of 'eisaR' as eisaR_1.5.4.zip
* DONE (eisaR)