Index of /checkResults/devel/bioc-LATEST/eisaR/raw-results/palomino3

[ICO]NameLast modifiedSizeDescription

[DIR]Parent Directory  -  
[TXT]buildbin-out.txt05-Feb-2023 01:05 1.0K 
[   ]buildbin-summary.dcf05-Feb-2023 01:05 503  
[TXT]buildsrc-out.txt05-Feb-2023 01:05 829  
[   ]buildsrc-summary.dcf05-Feb-2023 01:05 445  
[TXT]checksrc-out.txt05-Feb-2023 01:05 3.2K 
[   ]checksrc-summary.dcf05-Feb-2023 01:05 439  
[TXT]install-out.txt05-Feb-2023 01:05 956  
[   ]install-summary.dcf05-Feb-2023 01:05 264