Index of /checkResults/devel/bioc-LATEST/eisaR/raw-results/nebbiolo1

[ICO]NameLast modifiedSizeDescription

[DIR]Parent Directory  -  
[TXT]buildsrc-out.txt03-Feb-2023 01:05 798  
[   ]buildsrc-summary.dcf03-Feb-2023 01:05 411  
[TXT]checksrc-out.txt03-Feb-2023 01:05 3.3K 
[   ]checksrc-summary.dcf03-Feb-2023 01:05 401  
[TXT]install-out.txt03-Feb-2023 01:05 941  
[   ]install-summary.dcf03-Feb-2023 01:05 255