Index of /checkResults/devel/bioc-LATEST/eisaR/raw-results
Name
Last modified
Size
Description
Parent Directory
-
info.dcf
29-Jan-2023 01:08
266
merida1/
29-Jan-2023 01:08
-
nebbiolo1/
29-Jan-2023 01:05
-
palomino3/
29-Jan-2023 01:07
-