Index of /checkResults/devel/bioc-LATEST/eiR/raw-results/merida1

[ICO]NameLast modifiedSizeDescription

[DIR]Parent Directory  -  
[TXT]buildbin-out.txt21-May-2024 00:37 3.7K 
[   ]buildbin-summary.dcf21-May-2024 00:37 506  
[TXT]buildsrc-out.txt21-May-2024 00:37 893  
[   ]buildsrc-summary.dcf21-May-2024 00:37 415  
[TXT]checksrc-out.txt21-May-2024 00:37 4.6K 
[   ]checksrc-summary.dcf21-May-2024 00:37 428  
[TXT]install-out.txt21-May-2024 00:37 1.7K 
[   ]install-summary.dcf21-May-2024 00:37 261