Back to Multiple platform build/check report for BioC 3.14
ABCD[E]FGHIJKLMNOPQRSTUVWXYZ

This page was generated on 2021-10-14 12:05:31 -0400 (Thu, 14 Oct 2021).

INSTALL results for eegc on riesling1

To the developers/maintainers of the eegc package:
- Please allow up to 24 hours (and sometimes 48 hours) for your latest push to git@git.bioconductor.org:packages/eegc.git to
reflect on this report. See How and When does the builder pull? When will my changes propagate? here for more information.
- Make sure to use the following settings in order to reproduce any error or warning you see on this page.

raw results

Package 555/2056HostnameOS / ArchINSTALLBUILDCHECKBUILD BIN
eegc 1.19.0  (landing page)
Xiaoyuan Zhou
Snapshot Date: 2021-10-13 14:50:09 -0400 (Wed, 13 Oct 2021)
git_url: https://git.bioconductor.org/packages/eegc
git_branch: master
git_last_commit: fa07de3
git_last_commit_date: 2021-05-19 12:22:39 -0400 (Wed, 19 May 2021)
nebbiolo2Linux (Ubuntu 20.04.2 LTS) / x86_64  OK    OK    WARNINGS  UNNEEDED, same version is already published
riesling1Windows Server 2019 Standard / x64  OK    OK    WARNINGS    OK  UNNEEDED, same version is already published
merida1macOS 10.14.6 Mojave / x86_64  OK    OK    WARNINGS    OK  UNNEEDED, same version is already published

Summary

Package: eegc
Version: 1.19.0
Command: C:\cygwin\bin\curl.exe -O http://155.52.207.166/BBS/3.14/bioc/src/contrib/eegc_1.19.0.tar.gz && rm -rf eegc.buildbin-libdir && mkdir eegc.buildbin-libdir && D:\biocbuild\bbs-3.14-bioc\R\bin\R.exe CMD INSTALL --merge-multiarch --build --library=eegc.buildbin-libdir eegc_1.19.0.tar.gz && D:\biocbuild\bbs-3.14-bioc\R\bin\R.exe CMD INSTALL eegc_1.19.0.zip && rm eegc_1.19.0.tar.gz eegc_1.19.0.zip
StartedAt: 2021-10-13 19:01:38 -0400 (Wed, 13 Oct 2021)
EndedAt: 2021-10-13 19:04:24 -0400 (Wed, 13 Oct 2021)
EllapsedTime: 165.4 seconds
RetCode: 0
Status:   OK  

Command output

##############################################################################
##############################################################################
###
### Running command:
###
###   C:\cygwin\bin\curl.exe -O http://155.52.207.166/BBS/3.14/bioc/src/contrib/eegc_1.19.0.tar.gz && rm -rf eegc.buildbin-libdir && mkdir eegc.buildbin-libdir && D:\biocbuild\bbs-3.14-bioc\R\bin\R.exe CMD INSTALL --merge-multiarch --build --library=eegc.buildbin-libdir eegc_1.19.0.tar.gz && D:\biocbuild\bbs-3.14-bioc\R\bin\R.exe CMD INSTALL eegc_1.19.0.zip && rm eegc_1.19.0.tar.gz eegc_1.19.0.zip
###
##############################################################################
##############################################################################


  % Total    % Received % Xferd  Average Speed   Time    Time     Time  Current
                                 Dload  Upload   Total   Spent    Left  Speed

  0     0    0     0    0     0      0      0 --:--:-- --:--:-- --:--:--     0
 86 9086k   86 7820k    0     0  7963k      0  0:00:01 --:--:--  0:00:01 7955k
100 9086k  100 9086k    0     0  8290k      0  0:00:01  0:00:01 --:--:-- 8290k

install for i386

* installing *source* package 'eegc' ...
** using staged installation
** R
** data
*** moving datasets to lazyload DB
** inst
** byte-compile and prepare package for lazy loading
** help
*** installing help indices
  converting help for package 'eegc'
    finding HTML links ... done
    SandlerFPKM                             html  
    barplotEnrich                           html  
    cate.gene                               html  
    cate.ratio                              html  
    categorizeGene                          html  
    densityPlot                             html  
    diffGene                                html  
    diffgene.genes                          html  
    dotPercentage                           html  
    eegc                                    html  
    enrichment                              html  
    expr.filter                             html  
    functionEnrich                          html  
    goenrich                                html  
    grnPlot                                 html  
    heatmapPlot                             html  
    human.gene                              html  
    human.grn                               html  
    human.tf                                html  
    markerScatter                           html  
    markers                                 html  
    mouse.gene                              html  
    mouse.grn                               html  
    mouse.tf                                html  
    networkAnalyze                          html  
    tissueGenes                             html  
    tissueGroup                             html  
** building package indices
** installing vignettes
   'eegc.Rnw' 
** testing if installed package can be loaded from temporary location
** testing if installed package can be loaded from final location
** testing if installed package keeps a record of temporary installation path

install for x64

* installing *source* package 'eegc' ...
** testing if installed package can be loaded
* MD5 sums
packaged installation of 'eegc' as eegc_1.19.0.zip
* DONE (eegc)
* installing to library 'D:/biocbuild/bbs-3.14-bioc/R/library'
package 'eegc' successfully unpacked and MD5 sums checked