Name | Last modified | Size | Description | |
---|---|---|---|---|
Parent Directory | - | |||
buildbin-out.txt | 18-May-2024 00:38 | 14K | ||
buildbin-summary.dcf | 18-May-2024 00:38 | 516 | ||
buildsrc-out.txt | 18-May-2024 00:38 | 837 | ||
buildsrc-summary.dcf | 18-May-2024 00:38 | 420 | ||
checksrc-out.txt | 18-May-2024 00:38 | 4.1K | ||
checksrc-summary.dcf | 18-May-2024 00:38 | 434 | ||
install-out.txt | 18-May-2024 00:38 | 10K | ||
install-summary.dcf | 18-May-2024 00:38 | 265 | ||