Back to Multiple platform build/check report for BioC 3.14
ABCD[E]FGHIJKLMNOPQRSTUVWXYZ

This page was generated on 2021-10-23 14:06:58 -0400 (Sat, 23 Oct 2021).

BUILD results for edgeR on merida1

To the developers/maintainers of the edgeR package:
- Please allow up to 24 hours (and sometimes 48 hours) for your latest push to git@git.bioconductor.org:packages/edgeR.git to
reflect on this report. See How and When does the builder pull? When will my changes propagate? here for more information.
- Make sure to use the following settings in order to reproduce any error or warning you see on this page.

raw results

Package 566/2083HostnameOS / ArchINSTALLBUILDCHECKBUILD BIN
edgeR 3.35.3  (landing page)
Yunshun Chen , Gordon Smyth , Aaron Lun , Mark Robinson
Snapshot Date: 2021-10-22 14:50:11 -0400 (Fri, 22 Oct 2021)
git_url: https://git.bioconductor.org/packages/edgeR
git_branch: master
git_last_commit: 6bab998
git_last_commit_date: 2021-10-20 18:57:05 -0400 (Wed, 20 Oct 2021)
nebbiolo2Linux (Ubuntu 20.04.2 LTS) / x86_64  OK    OK    OK  UNNEEDED, same version is already published
riesling1Windows Server 2019 Standard / x64  OK    OK    OK    OK  UNNEEDED, same version is already published
merida1macOS 10.14.6 Mojave / x86_64  OK    OK    OK    OK  YES

Summary

Package: edgeR
Version: 3.35.3
Command: /Library/Frameworks/R.framework/Resources/bin/R CMD build --keep-empty-dirs --no-resave-data edgeR
StartedAt: 2021-10-22 19:49:58 -0400 (Fri, 22 Oct 2021)
EndedAt: 2021-10-22 19:52:30 -0400 (Fri, 22 Oct 2021)
EllapsedTime: 151.9 seconds
RetCode: 0
Status:   OK  
PackageFile: edgeR_3.35.3.tar.gz
PackageFileSize: 1.658 MiB

Command output

##############################################################################
##############################################################################
###
### Running command:
###
###   /Library/Frameworks/R.framework/Resources/bin/R CMD build --keep-empty-dirs --no-resave-data edgeR
###
##############################################################################
##############################################################################


* checking for file ‘edgeR/DESCRIPTION’ ... OK
* preparing ‘edgeR’:
* checking DESCRIPTION meta-information ... OK
* cleaning src
* installing the package to process help pages
* saving partial Rd database
* creating vignettes ... OK
* cleaning src
* checking for LF line-endings in source and make files and shell scripts
* checking for empty or unneeded directories
* building ‘edgeR_3.35.3.tar.gz’