Name | Last modified | Size | Description | |
---|---|---|---|---|
Parent Directory | - | |||
buildbin-out.txt | 29-Mar-2024 00:37 | 2.0K | ||
buildbin-summary.dcf | 29-Mar-2024 00:37 | 497 | ||
buildsrc-out.txt | 29-Mar-2024 00:37 | 856 | ||
buildsrc-summary.dcf | 29-Mar-2024 00:37 | 439 | ||
checksrc-out.txt | 29-Mar-2024 00:37 | 6.1K | ||
checksrc-summary.dcf | 29-Mar-2024 00:37 | 441 | ||
install-out.txt | 29-Mar-2024 00:37 | 1.9K | ||
install-summary.dcf | 29-Mar-2024 00:37 | 262 | ||