Back to Multiple platform build/check report for BioC 3.15
ABCD[E]FGHIJKLMNOPQRSTUVWXYZ

This page was generated on 2021-11-30 13:55:25 -0500 (Tue, 30 Nov 2021).

BUILD results for edge on merida1

To the developers/maintainers of the edge package:
- Please allow up to 24 hours (and sometimes 48 hours) for your latest push to git@git.bioconductor.org:packages/edge.git to
reflect on this report. See How and When does the builder pull? When will my changes propagate? here for more information.
- Make sure to use the following settings in order to reproduce any error or warning you see on this page.

raw results

Package 561/2068HostnameOS / ArchINSTALLBUILDCHECKBUILD BIN
edge 2.27.0  (landing page)
John D. Storey , Andrew J. Bass
Snapshot Date: 2021-11-29 14:50:17 -0500 (Mon, 29 Nov 2021)
git_url: https://git.bioconductor.org/packages/edge
git_branch: master
git_last_commit: 64ba7eb
git_last_commit_date: 2021-10-26 12:20:40 -0500 (Tue, 26 Oct 2021)
nebbiolo1Linux (Ubuntu 20.04.3 LTS) / x86_64  OK    OK    WARNINGS  UNNEEDED, same version is already published
riesling1Windows Server 2019 Standard / x64  OK    OK    WARNINGS    OK  
merida1macOS 10.14.6 Mojave / x86_64  OK    OK    WARNINGS    OK  UNNEEDED, same version is already published

Summary

Package: edge
Version: 2.27.0
Command: /Library/Frameworks/R.framework/Resources/bin/R CMD build --keep-empty-dirs --no-resave-data edge
StartedAt: 2021-11-29 19:58:05 -0500 (Mon, 29 Nov 2021)
EndedAt: 2021-11-29 19:59:31 -0500 (Mon, 29 Nov 2021)
EllapsedTime: 86.6 seconds
RetCode: 0
Status:   OK  
PackageFile: edge_2.27.0.tar.gz
PackageFileSize: 1007 KiB

Command output

##############################################################################
##############################################################################
###
### Running command:
###
###   /Library/Frameworks/R.framework/Resources/bin/R CMD build --keep-empty-dirs --no-resave-data edge
###
##############################################################################
##############################################################################


* checking for file ‘edge/DESCRIPTION’ ... OK
* preparing ‘edge’:
* checking DESCRIPTION meta-information ... OK
* cleaning src
* installing the package to build vignettes
* creating vignettes ... OK
* cleaning src
* checking for LF line-endings in source and make files and shell scripts
* checking for empty or unneeded directories
* building ‘edge_2.27.0.tar.gz’