Name | Last modified | Size | Description | |
---|---|---|---|---|
Parent Directory | - | |||
buildsrc-out.txt | 09-Jul-2024 00:44 | 1.1K | ||
buildsrc-summary.dcf | 09-Jul-2024 00:44 | 423 | ||
checksrc-out.txt | 09-Jul-2024 00:44 | 3.7K | ||
checksrc-summary.dcf | 09-Jul-2024 00:44 | 339 | ||
install-out.txt | 06-Jul-2024 00:44 | 627 | ||
install-summary.dcf | 06-Jul-2024 00:44 | 261 | ||