Back to Multiple platform build/check report for BioC 3.15
ABCD[E]FGHIJKLMNOPQRSTUVWXYZ

This page was generated on 2022-01-27 11:07:06 -0500 (Thu, 27 Jan 2022).

HostnameOSArch (*)R versionInstalled pkgs
nebbiolo1Linux (Ubuntu 20.04.4 LTS)x86_64R Under development (unstable) (2022-01-05 r81451) -- "Unsuffered Consequences" 4167
riesling1Windows Server 2019 Standardx64R Under development (unstable) (2021-11-21 r81221) -- "Unsuffered Consequences" 4062
palomino3Windows Server 2022 Datacenterx64R Under development (unstable) (2021-12-21 r81400 ucrt) -- "Unsuffered Consequences" 4004
merida1macOS 10.14.6 Mojavex86_64R Under development (unstable) (2022-01-05 r81451) -- "Unsuffered Consequences" 4121
Click on any hostname to see more info about the system (e.g. compilers)      (*) as reported by 'uname -p', except on Windows and Mac OS X

INSTALL results for easyRNASeq on riesling1


To the developers/maintainers of the easyRNASeq package:
- Please allow up to 24 hours (and sometimes 48 hours) for your latest push to git@git.bioconductor.org:packages/easyRNASeq.git to
reflect on this report. See How and When does the builder pull? When will my changes propagate? here for more information.
- Make sure to use the following settings in order to reproduce any error or warning you see on this page.

raw results

Package 557/2077HostnameOS / ArchINSTALLBUILDCHECKBUILD BIN
easyRNASeq 2.31.0  (landing page)
Nicolas Delhomme
Snapshot Date: 2022-01-26 13:55:18 -0500 (Wed, 26 Jan 2022)
git_url: https://git.bioconductor.org/packages/easyRNASeq
git_branch: master
git_last_commit: 0194dad
git_last_commit_date: 2021-10-26 12:01:41 -0500 (Tue, 26 Oct 2021)
nebbiolo1Linux (Ubuntu 20.04.4 LTS) / x86_64  OK    OK    OK  UNNEEDED, same version is already published
riesling1Windows Server 2019 Standard / x64  OK    OK    OK    NA  
palomino3Windows Server 2022 Datacenter / x64  OK    OK    OK    OK  NO, package depends on 'Biobase' which is not available
merida1macOS 10.14.6 Mojave / x86_64  OK    OK    OK    OK  UNNEEDED, same version is already published

Summary

Package: easyRNASeq
Version: 2.31.0
Command: D:\biocbuild\bbs-3.15-bioc\R\bin\R.exe CMD INSTALL easyRNASeq
StartedAt: 2022-01-26 15:48:51 -0500 (Wed, 26 Jan 2022)
EndedAt: 2022-01-26 15:49:49 -0500 (Wed, 26 Jan 2022)
EllapsedTime: 58.5 seconds
RetCode: 0
Status:   OK  

Command output

##############################################################################
##############################################################################
###
### Running command:
###
###   D:\biocbuild\bbs-3.15-bioc\R\bin\R.exe CMD INSTALL easyRNASeq
###
##############################################################################
##############################################################################


* installing to library 'D:/biocbuild/bbs-3.15-bioc/R/library'
* installing *source* package 'easyRNASeq' ...
** using staged installation
** R
** data
** inst
** byte-compile and prepare package for lazy loading
No methods found in package 'BiocGenerics' for request: 'clusterApply' when loading 'easyRNASeq'
Creating a generic function for 'basename' from package 'base' in package 'easyRNASeq'
Creating a generic function for 'file.exists' from package 'base' in package 'easyRNASeq'
** help
*** installing help indices
  converting help for package 'easyRNASeq'
    finding HTML links ... done
    BiocFileCache-methods                   html  
    finding level-2 HTML links ... done

    GenomicRanges-methods                   html  
    IRanges-methods                         html  
    Rsamtools-methods                       html  
    ShortRead-methods                       html  
    basename-methods                        html  
    easyRNASeq-AnnotParam-accessors         html  
    easyRNASeq-AnnotParam-class             html  
    easyRNASeq-AnnotParam                   html  
    easyRNASeq-BamFileList                  html  
    easyRNASeq-BamParam-accessors           html  
    easyRNASeq-BamParam-class               html  
    easyRNASeq-BamParam                     html  
    easyRNASeq-RnaSeqParam-accessors        html  
REDIRECT:topic	 Previous alias or file overwritten by alias: D:/biocbuild/bbs-3.15-bioc/R/library/00LOCK-easyRNASeq/00new/easyRNASeq/help/bamParam.html
REDIRECT:topic	 Previous alias or file overwritten by alias: D:/biocbuild/bbs-3.15-bioc/R/library/00LOCK-easyRNASeq/00new/easyRNASeq/help/annotParam.html
    easyRNASeq-RnaSeqParam-class            html  
    easyRNASeq-RnaSeqParam                  html  
    easyRNASeq-accessors                    html  
    easyRNASeq-annotation-internal-methods
                                            html  
    easyRNASeq-annotation-methods           html  
    easyRNASeq-class                        html  
    easyRNASeq-correction-methods           html  
    easyRNASeq-coverage-methods             html  
    easyRNASeq-datasets                     html  
    easyRNASeq-defunct-annotation-methods   html  
    easyRNASeq-defunct                      html  
    easyRNASeq-easyRNASeq                   html  
REDIRECT:topic	 Previous alias or file overwritten by alias: D:/biocbuild/bbs-3.15-bioc/R/library/00LOCK-easyRNASeq/00new/easyRNASeq/help/easyRNASeq-defunct.html
    easyRNASeq-global-variables             html  
    easyRNASeq-internal-AnnotParam-methods
                                            html  
    easyRNASeq-internal-methods             html  
    easyRNASeq-island-methods               html  
    easyRNASeq-package                      html  
    easyRNASeq-simpleRNASeq                 html  
    easyRNASeq-summarization-internal-methods
                                            html  
    easyRNASeq-summarization-methods        html  
    easyRNASeq-synthetic-transcripts        html  
    edgeR-methods                           html  
    file.exists-methods                     html  
    genomeIntervals-methods                 html  
    parallel-methods                        html  
    print-methods                           html  
    show-methods                            html  
** building package indices
** installing vignettes
** testing if installed package can be loaded from temporary location
No methods found in package 'BiocGenerics' for request: 'clusterApply' when loading 'easyRNASeq'
** testing if installed package can be loaded from final location
No methods found in package 'BiocGenerics' for request: 'clusterApply' when loading 'easyRNASeq'
** testing if installed package keeps a record of temporary installation path
* DONE (easyRNASeq)
Making 'packages.html' ...Warning in packageDescription(i, lib.loc = lib, fields = "Title", encoding = "UTF-8") :
  DESCRIPTION file of package 'NPARC' is missing or broken
Warning in packageDescription(i, lib.loc = lib, fields = "Title", encoding = "UTF-8") :
  DESCRIPTION file of package 'RSVSim' is missing or broken
Warning in packageDescription(i, lib.loc = lib, fields = "Title", encoding = "UTF-8") :
  DESCRIPTION file of package 'scater' is missing or broken
 done