Back to Multiple platform build/check report for BioC 3.14
ABCD[E]FGHIJKLMNOPQRSTUVWXYZ

This page was generated on 2021-10-23 14:06:25 -0400 (Sat, 23 Oct 2021).

BUILD BIN results for easyRNASeq on riesling1

To the developers/maintainers of the easyRNASeq package:
- Please allow up to 24 hours (and sometimes 48 hours) for your latest push to git@git.bioconductor.org:packages/easyRNASeq.git to
reflect on this report. See How and When does the builder pull? When will my changes propagate? here for more information.
- Make sure to use the following settings in order to reproduce any error or warning you see on this page.

raw results

Package 556/2083HostnameOS / ArchINSTALLBUILDCHECKBUILD BIN
easyRNASeq 2.29.0  (landing page)
Nicolas Delhomme
Snapshot Date: 2021-10-22 14:50:11 -0400 (Fri, 22 Oct 2021)
git_url: https://git.bioconductor.org/packages/easyRNASeq
git_branch: master
git_last_commit: 23e7b94
git_last_commit_date: 2021-05-19 11:51:10 -0400 (Wed, 19 May 2021)
nebbiolo2Linux (Ubuntu 20.04.2 LTS) / x86_64  OK    OK    OK  UNNEEDED, same version is already published
riesling1Windows Server 2019 Standard / x64  OK    OK    OK    OK  UNNEEDED, same version is already published
merida1macOS 10.14.6 Mojave / x86_64  OK    OK    OK    OK  UNNEEDED, same version is already published

Summary

Package: easyRNASeq
Version: 2.29.0
Command: rm -rf easyRNASeq.buildbin-libdir && mkdir easyRNASeq.buildbin-libdir && D:\biocbuild\bbs-3.14-bioc\R\bin\R.exe CMD INSTALL --merge-multiarch --build --library=easyRNASeq.buildbin-libdir easyRNASeq_2.29.0.tar.gz
StartedAt: 2021-10-23 10:30:57 -0400 (Sat, 23 Oct 2021)
EndedAt: 2021-10-23 10:35:08 -0400 (Sat, 23 Oct 2021)
EllapsedTime: 251.1 seconds
RetCode: 0
Status:   OK  
PackageFile: easyRNASeq_2.29.0.zip
PackageFileSize: 24.14 MiB

Command output

##############################################################################
##############################################################################
###
### Running command:
###
###   rm -rf easyRNASeq.buildbin-libdir && mkdir easyRNASeq.buildbin-libdir && D:\biocbuild\bbs-3.14-bioc\R\bin\R.exe CMD INSTALL --merge-multiarch --build --library=easyRNASeq.buildbin-libdir easyRNASeq_2.29.0.tar.gz
###
##############################################################################
##############################################################################



install for i386

* installing *source* package 'easyRNASeq' ...
** using staged installation
** R
** data
** inst
** byte-compile and prepare package for lazy loading
No methods found in package 'BiocGenerics' for request: 'clusterApply' when loading 'easyRNASeq'
Creating a generic function for 'basename' from package 'base' in package 'easyRNASeq'
Creating a generic function for 'file.exists' from package 'base' in package 'easyRNASeq'
** help
*** installing help indices
  converting help for package 'easyRNASeq'
    finding HTML links ... done
    BiocFileCache-methods                   html  
    finding level-2 HTML links ... done

    GenomicRanges-methods                   html  
    IRanges-methods                         html  
    Rsamtools-methods                       html  
    ShortRead-methods                       html  
    basename-methods                        html  
    easyRNASeq-AnnotParam-accessors         html  
    easyRNASeq-AnnotParam-class             html  
    easyRNASeq-AnnotParam                   html  
    easyRNASeq-BamFileList                  html  
    easyRNASeq-BamParam-accessors           html  
    easyRNASeq-BamParam-class               html  
    easyRNASeq-BamParam                     html  
    easyRNASeq-RnaSeqParam-accessors        html  
REDIRECT:topic	 Previous alias or file overwritten by alias: D:/biocbuild/bbs-3.14-bioc/meat/easyRNASeq.buildbin-libdir/00LOCK-easyRNASeq/00new/easyRNASeq/help/bamParam.html
REDIRECT:topic	 Previous alias or file overwritten by alias: D:/biocbuild/bbs-3.14-bioc/meat/easyRNASeq.buildbin-libdir/00LOCK-easyRNASeq/00new/easyRNASeq/help/annotParam.html
    easyRNASeq-RnaSeqParam-class            html  
    easyRNASeq-RnaSeqParam                  html  
    easyRNASeq-accessors                    html  
    easyRNASeq-annotation-internal-methods
                                            html  
    easyRNASeq-annotation-methods           html  
    easyRNASeq-class                        html  
    easyRNASeq-correction-methods           html  
    easyRNASeq-coverage-methods             html  
    easyRNASeq-datasets                     html  
    easyRNASeq-defunct-annotation-methods   html  
    easyRNASeq-defunct                      html  
    easyRNASeq-easyRNASeq                   html  
REDIRECT:topic	 Previous alias or file overwritten by alias: D:/biocbuild/bbs-3.14-bioc/meat/easyRNASeq.buildbin-libdir/00LOCK-easyRNASeq/00new/easyRNASeq/help/easyRNASeq-defunct.html
    easyRNASeq-global-variables             html  
    easyRNASeq-internal-AnnotParam-methods
                                            html  
    easyRNASeq-internal-methods             html  
    easyRNASeq-island-methods               html  
    easyRNASeq-package                      html  
    easyRNASeq-simpleRNASeq                 html  
    easyRNASeq-summarization-internal-methods
                                            html  
    easyRNASeq-summarization-methods        html  
    easyRNASeq-synthetic-transcripts        html  
    edgeR-methods                           html  
    file.exists-methods                     html  
    genomeIntervals-methods                 html  
    parallel-methods                        html  
    print-methods                           html  
    show-methods                            html  
** building package indices
** installing vignettes
** testing if installed package can be loaded from temporary location
No methods found in package 'BiocGenerics' for request: 'clusterApply' when loading 'easyRNASeq'
** testing if installed package can be loaded from final location
No methods found in package 'BiocGenerics' for request: 'clusterApply' when loading 'easyRNASeq'
** testing if installed package keeps a record of temporary installation path

install for x64

* installing *source* package 'easyRNASeq' ...
** testing if installed package can be loaded
No methods found in package 'BiocGenerics' for request: 'clusterApply' when loading 'easyRNASeq'
* MD5 sums
packaged installation of 'easyRNASeq' as easyRNASeq_2.29.0.zip
* DONE (easyRNASeq)