Index of /checkResults/devel/bioc-LATEST/easyRNASeq/raw-results/palomino8
Name
Last modified
Size
Description
Parent Directory
-
install-out.txt
27-Jul-2024 00:39
1.2K
install-summary.dcf
27-Jul-2024 00:39
277
buildsrc-out.txt
27-Jul-2024 00:39
1.5K
buildsrc-summary.dcf
27-Jul-2024 00:39
377