Index of /checkResults/devel/bioc-LATEST/easyRNASeq/raw-results/palomino4
Name
Last modified
Size
Description
Parent Directory
-
install-summary.dcf
12-Jun-2024 04:40
277
buildsrc-summary.dcf
12-Jun-2024 04:40
377
install-out.txt
12-Jun-2024 04:40
1.2K
buildsrc-out.txt
12-Jun-2024 04:40
1.5K