Index of /checkResults/devel/bioc-LATEST/easyRNASeq/raw-results/nebbiolo2
Name
Last modified
Size
Description
Parent Directory
-
buildsrc-out.txt
28-Jul-2024 00:38
1.5K
buildsrc-summary.dcf
28-Jul-2024 00:38
345
install-out.txt
28-Jul-2024 00:38
1.3K
install-summary.dcf
28-Jul-2024 00:38
268