Index of /checkResults/devel/bioc-LATEST/easyRNASeq/raw-results/lconway
Name
Last modified
Size
Description
Parent Directory
-
buildsrc-summary.dcf
28-Jul-2024 00:41
349
buildsrc-out.txt
28-Jul-2024 00:41
1.5K
install-summary.dcf
28-Jul-2024 00:41
278
install-out.txt
28-Jul-2024 00:41
1.3K