Index of /checkResults/devel/bioc-LATEST/easyRNASeq/raw-results/kjohnson3
Name
Last modified
Size
Description
Parent Directory
-
buildsrc-out.txt
27-Jul-2024 00:42
1.6K
buildsrc-summary.dcf
27-Jul-2024 00:42
348
install-out.txt
27-Jul-2024 00:42
1.3K
install-summary.dcf
27-Jul-2024 00:42
277