Back to Multiple platform build/check report for BioC 3.14
ABCD[E]FGHIJKLMNOPQRSTUVWXYZ

This page was generated on 2021-10-21 12:04:17 -0400 (Thu, 21 Oct 2021).

CHECK results for easyRNASeq on nebbiolo2

To the developers/maintainers of the easyRNASeq package:
- Please allow up to 24 hours (and sometimes 48 hours) for your latest push to git@git.bioconductor.org:packages/easyRNASeq.git to
reflect on this report. See How and When does the builder pull? When will my changes propagate? here for more information.
- Make sure to use the following settings in order to reproduce any error or warning you see on this page.

raw results

Package 552/2075HostnameOS / ArchINSTALLBUILDCHECKBUILD BIN
easyRNASeq 2.29.0  (landing page)
Nicolas Delhomme
Snapshot Date: 2021-10-20 14:50:05 -0400 (Wed, 20 Oct 2021)
git_url: https://git.bioconductor.org/packages/easyRNASeq
git_branch: master
git_last_commit: 23e7b94
git_last_commit_date: 2021-05-19 11:51:10 -0400 (Wed, 19 May 2021)
nebbiolo2Linux (Ubuntu 20.04.2 LTS) / x86_64  OK    OK    OK  UNNEEDED, same version is already published
riesling1Windows Server 2019 Standard / x64  OK    OK    OK    OK  UNNEEDED, same version is already published
merida1macOS 10.14.6 Mojave / x86_64  OK    OK    OK    OK  UNNEEDED, same version is already published

Summary

Package: easyRNASeq
Version: 2.29.0
Command: /home/biocbuild/bbs-3.14-bioc/R/bin/R CMD check --install=check:easyRNASeq.install-out.txt --library=/home/biocbuild/bbs-3.14-bioc/R/library --no-vignettes --timings easyRNASeq_2.29.0.tar.gz
StartedAt: 2021-10-20 20:02:16 -0400 (Wed, 20 Oct 2021)
EndedAt: 2021-10-20 20:12:52 -0400 (Wed, 20 Oct 2021)
EllapsedTime: 636.3 seconds
RetCode: 0
Status:   OK  
CheckDir: easyRNASeq.Rcheck
Warnings: 0

Command output

##############################################################################
##############################################################################
###
### Running command:
###
###   /home/biocbuild/bbs-3.14-bioc/R/bin/R CMD check --install=check:easyRNASeq.install-out.txt --library=/home/biocbuild/bbs-3.14-bioc/R/library --no-vignettes --timings easyRNASeq_2.29.0.tar.gz
###
##############################################################################
##############################################################################


* using log directory ‘/home/biocbuild/bbs-3.14-bioc/meat/easyRNASeq.Rcheck’
* using R version 4.1.1 (2021-08-10)
* using platform: x86_64-pc-linux-gnu (64-bit)
* using session charset: UTF-8
* using option ‘--no-vignettes’
* checking for file ‘easyRNASeq/DESCRIPTION’ ... OK
* checking extension type ... Package
* this is package ‘easyRNASeq’ version ‘2.29.0’
* package encoding: UTF-8
* checking package namespace information ... OK
* checking package dependencies ... NOTE
Files named as vignettes but with no recognized vignette engine:
   ‘inst/doc/01-Introduction.Rmd’
   ‘inst/doc/02-AnnotParam.Rmd’
   ‘inst/doc/03-SyntheticTranscripts.Rmd’
   ‘inst/doc/04-BamParam.Rmd’
   ‘inst/doc/05-RnaSeqParam.Rmd’
   ‘inst/doc/06-simpleRNASeq.Rmd’
   ‘inst/doc/07-cleanUp.Rmd’
   ‘inst/doc/08-Session-Info.Rmd’
   ‘inst/doc/09-Acknowledgments.Rmd’
   ‘inst/doc/10-Foonotes.Rmd’
   ‘inst/doc/11-Images.Rmd’
   ‘inst/doc/12-Appendix.Rmd’
(Is a VignetteBuilder field missing?)
* checking if this is a source package ... OK
* checking if there is a namespace ... OK
* checking for hidden files and directories ... OK
* checking for portable file names ... OK
* checking for sufficient/correct file permissions ... OK
* checking whether package ‘easyRNASeq’ can be installed ... OK
* checking installed package size ... OK
* checking package directory ... OK
* checking ‘build’ directory ... OK
* checking DESCRIPTION meta-information ... OK
* checking top-level files ... OK
* checking for left-over files ... OK
* checking index information ... OK
* checking package subdirectories ... OK
* checking R files for non-ASCII characters ... OK
* checking R files for syntax errors ... OK
* checking whether the package can be loaded ... OK
* checking whether the package can be loaded with stated dependencies ... OK
* checking whether the package can be unloaded cleanly ... OK
* checking whether the namespace can be loaded with stated dependencies ... OK
* checking whether the namespace can be unloaded cleanly ... OK
* checking dependencies in R code ... NOTE
Namespace in Imports field not imported from: ‘locfit’
  All declared Imports should be used.
* checking S3 generic/method consistency ... OK
* checking replacement functions ... OK
* checking foreign function calls ... OK
* checking R code for possible problems ... NOTE
.parallelize: no visible global function definition for ‘clusterApply’
Undefined global functions or variables:
  clusterApply
* checking Rd files ... OK
* checking Rd metadata ... OK
* checking Rd cross-references ... OK
* checking for missing documentation entries ... OK
* checking for code/documentation mismatches ... OK
* checking Rd \usage sections ... OK
* checking Rd contents ... OK
* checking for unstated dependencies in examples ... OK
* checking contents of ‘data’ directory ... OK
* checking data for non-ASCII characters ... OK
* checking data for ASCII and uncompressed saves ... OK
* checking line endings in Makefiles ... OK
* checking for GNU extensions in Makefiles ... OK
* checking include directives in Makefiles ... OK
* checking files in ‘vignettes’ ... OK
* checking examples ... OK
Examples with CPU (user + system) or elapsed time > 5s
                                   user system elapsed
easyRNASeq-simpleRNASeq          89.558  1.284  92.868
easyRNASeq-package               75.235  1.475  77.335
easyRNASeq-synthetic-transcripts 38.893  0.131  39.056
BiocFileCache-methods            29.779  0.999  43.787
easyRNASeq-BamFileList           14.756  0.099  15.376
Rsamtools-methods                10.299  0.064  10.723
* checking for unstated dependencies in ‘tests’ ... OK
* checking tests ...
  Running ‘runTests.R’
 OK
* checking for unstated dependencies in vignettes ... OK
* checking package vignettes in ‘inst/doc’ ... OK
* checking running R code from vignettes ... SKIPPED
* checking re-building of vignette outputs ... SKIPPED
* checking PDF version of manual ... OK
* DONE

Status: 3 NOTEs
See
  ‘/home/biocbuild/bbs-3.14-bioc/meat/easyRNASeq.Rcheck/00check.log’
for details.



Installation output

easyRNASeq.Rcheck/00install.out

##############################################################################
##############################################################################
###
### Running command:
###
###   /home/biocbuild/bbs-3.14-bioc/R/bin/R CMD INSTALL easyRNASeq
###
##############################################################################
##############################################################################


* installing to library ‘/home/biocbuild/bbs-3.14-bioc/R/library’
* installing *source* package ‘easyRNASeq’ ...
** using staged installation
** R
** data
** inst
** byte-compile and prepare package for lazy loading
No methods found in package ‘BiocGenerics’ for request: ‘clusterApply’ when loading ‘easyRNASeq’
Creating a generic function for ‘basename’ from package ‘base’ in package ‘easyRNASeq’
Creating a generic function for ‘file.exists’ from package ‘base’ in package ‘easyRNASeq’
** help
*** installing help indices
** building package indices
** installing vignettes
** testing if installed package can be loaded from temporary location
No methods found in package ‘BiocGenerics’ for request: ‘clusterApply’ when loading ‘easyRNASeq’
** testing if installed package can be loaded from final location
No methods found in package ‘BiocGenerics’ for request: ‘clusterApply’ when loading ‘easyRNASeq’
** testing if installed package keeps a record of temporary installation path
* DONE (easyRNASeq)

Tests output

easyRNASeq.Rcheck/tests/runTests.Rout


R version 4.1.1 (2021-08-10) -- "Kick Things"
Copyright (C) 2021 The R Foundation for Statistical Computing
Platform: x86_64-pc-linux-gnu (64-bit)

R is free software and comes with ABSOLUTELY NO WARRANTY.
You are welcome to redistribute it under certain conditions.
Type 'license()' or 'licence()' for distribution details.

R is a collaborative project with many contributors.
Type 'contributors()' for more information and
'citation()' on how to cite R or R packages in publications.

Type 'demo()' for some demos, 'help()' for on-line help, or
'help.start()' for an HTML browser interface to help.
Type 'q()' to quit R.

> # get the example data
> library(easyRNASeq)
No methods found in package 'BiocGenerics' for request: 'clusterApply' when loading 'easyRNASeq'
> tutorialData()
[1] "/home/biocbuild/.cache/easyRNASeq"
> 
> # set the env.var
> #TUTORIAL.DATA <- get("TUTORIAL.DATA",envir=as.environment("package:easyRNASeq"))
> 
> # run the tests
> BiocGenerics:::testPackage("easyRNASeq")
Loading required package: GenomicRanges
Loading required package: stats4
Loading required package: BiocGenerics

Attaching package: 'BiocGenerics'

The following object is masked from 'package:easyRNASeq':

    basename

The following objects are masked from 'package:stats':

    IQR, mad, sd, var, xtabs

The following objects are masked from 'package:base':

    Filter, Find, Map, Position, Reduce, anyDuplicated, append,
    as.data.frame, basename, cbind, colnames, dirname, do.call,
    duplicated, eval, evalq, get, grep, grepl, intersect, is.unsorted,
    lapply, mapply, match, mget, order, paste, pmax, pmax.int, pmin,
    pmin.int, rank, rbind, rownames, sapply, setdiff, sort, table,
    tapply, union, unique, unsplit, which.max, which.min

Loading required package: S4Vectors

Attaching package: 'S4Vectors'

The following objects are masked from 'package:base':

    I, expand.grid, unname

Loading required package: IRanges
Loading required package: GenomeInfoDb
No validation performed at that stage
Validated a datasource of type biomaRt
No validation performed at that stage
Validated a datasource of type rda
Read 1000 records
Validated a datasource of type gtf
Read 999 records
Validated a datasource of type gff3


RUNIT TEST PROTOCOL -- Wed Oct 20 20:12:49 2021 
*********************************************** 
Number of test functions: 20 
Number of errors: 0 
Number of failures: 0 

 
1 Test Suite : 
easyRNASeq RUnit Tests - 20 test functions, 0 errors, 0 failures
Number of test functions: 20 
Number of errors: 0 
Number of failures: 0 
Warning messages:
1: In FUN(X[[i]], ...) :
  Bam file: 1706643e6f32b1_ACACTG.bam is considered unstranded.
2: In FUN(X[[i]], ...) :
  Bam file: 1706643e6f32b1_ACACTG.bam Strandedness could not be determined using 18615 regions spanning 1300192 bp on either strand at a 90% cutoff; 73.67 percent appear to be stranded.
3: In FUN(X[[i]], ...) :
  Bam file: 1706644fa38895_TTGCGA.bam is considered unstranded.
4: In FUN(X[[i]], ...) :
  Bam file: 1706644fa38895_TTGCGA.bam Strandedness could not be determined using 19659 regions spanning 1381886 bp on either strand at a 90% cutoff; 73.37 percent appear to be stranded.
5: In FUN(X[[i]], ...) :
  Bam file: 1706645df7bd21_ACTAGC.bam is considered unstranded.
6: In FUN(X[[i]], ...) :
  Bam file: 1706645df7bd21_ACTAGC.bam Strandedness could not be determined using 14772 regions spanning 1023473 bp on either strand at a 90% cutoff; 76.6 percent appear to be stranded.
7: In FUN(X[[i]], ...) :
  Bam file: 17066472d40a4d_ATGGCT.bam is considered unstranded.
8: In FUN(X[[i]], ...) :
  Bam file: 17066472d40a4d_ATGGCT.bam Strandedness could not be determined using 18462 regions spanning 1280337 bp on either strand at a 90% cutoff; 74.26 percent appear to be stranded.
9: In simpleRNASeq(bamFiles = bamFiles, param = param, verbose = FALSE) :
  As of version 2.15.5, easyRNASeq assumes that, if the data is strand specific, the sequencing was done using a protocol such as the Illumina TruSeq, where the reverse strand is quantified - i.e. the strandProtocol argument of the BamParam class defaults to 'reverse'.
> 
> # cleanup
> # removebfc(easyRNASeq:::.get_cache(),ask=FALSE)
> 
> proc.time()
   user  system elapsed 
 80.152   2.085 117.072 

Example timings

easyRNASeq.Rcheck/easyRNASeq-Ex.timings

nameusersystemelapsed
BiocFileCache-methods29.779 0.99943.787
GenomicRanges-methods0.5320.0120.544
IRanges-methods0.0010.0000.000
Rsamtools-methods10.299 0.06410.723
ShortRead-methods0.0010.0000.000
easyRNASeq-AnnotParam-accessors0.7240.0000.746
easyRNASeq-AnnotParam-class0.0010.0000.001
easyRNASeq-AnnotParam0.7620.0000.784
easyRNASeq-BamFileList14.756 0.09915.376
easyRNASeq-BamParam-accessors0.0020.0000.002
easyRNASeq-BamParam-class000
easyRNASeq-BamParam0.0030.0010.003
easyRNASeq-RnaSeqParam-accessors0.0050.0000.005
easyRNASeq-RnaSeqParam-class000
easyRNASeq-RnaSeqParam0.0060.0000.006
easyRNASeq-accessors000
easyRNASeq-annotation-methods000
easyRNASeq-class0.0010.0000.001
easyRNASeq-correction-methods000
easyRNASeq-coverage-methods000
easyRNASeq-easyRNASeq000
easyRNASeq-island-methods000
easyRNASeq-package75.235 1.47577.335
easyRNASeq-simpleRNASeq89.558 1.28492.868
easyRNASeq-summarization-methods000
easyRNASeq-synthetic-transcripts38.893 0.13139.056
edgeR-methods000
genomeIntervals-methods1.7370.1351.900
parallel-methods000