Back to Multiple platform build/check report for BioC 3.13 |
|
This page was generated on 2021-01-17 12:38:45 -0500 (Sun, 17 Jan 2021).
TO THE DEVELOPERS/MAINTAINERS OF THE dupRadar PACKAGE: Please make sure to use the following settings in order to reproduce any error or warning you see on this page. |
Package 514/1931 | Hostname | OS / Arch | INSTALL | BUILD | CHECK | BUILD BIN | ||||||
dupRadar 1.21.0 Sergi Sayols
| malbec2 | Linux (Ubuntu 20.04.1 LTS) / x86_64 | OK | OK | OK | ![]() | ||||||
tokay2 | Windows Server 2012 R2 Standard / x64 | ...NOT SUPPORTED... | ||||||||||
riesling1 | Windows Server 2019 Standard / x64 | ...NOT SUPPORTED... | ||||||||||
machv2 | macOS 10.14.6 Mojave / x86_64 | OK | [ OK ] | OK | OK | ![]() |
Package: dupRadar |
Version: 1.21.0 |
Command: /Library/Frameworks/R.framework/Versions/Current/Resources/bin/R CMD build --keep-empty-dirs --no-resave-data dupRadar |
StartedAt: 2021-01-16 18:39:12 -0500 (Sat, 16 Jan 2021) |
EndedAt: 2021-01-16 18:40:04 -0500 (Sat, 16 Jan 2021) |
EllapsedTime: 52.5 seconds |
RetCode: 0 |
Status: OK |
PackageFile: dupRadar_1.21.0.tar.gz |
PackageFileSize: 2.668 MiB |
############################################################################## ############################################################################## ### ### Running command: ### ### /Library/Frameworks/R.framework/Versions/Current/Resources/bin/R CMD build --keep-empty-dirs --no-resave-data dupRadar ### ############################################################################## ############################################################################## * checking for file ‘dupRadar/DESCRIPTION’ ... OK * preparing ‘dupRadar’: * checking DESCRIPTION meta-information ... OK * installing the package to build vignettes * creating vignettes ... OK * checking for LF line-endings in source and make files and shell scripts * checking for empty or unneeded directories * building ‘dupRadar_1.21.0.tar.gz’