Back to Multiple platform build/check report for BioC 3.13 |
|
This page was generated on 2021-01-17 12:38:45 -0500 (Sun, 17 Jan 2021).
TO THE DEVELOPERS/MAINTAINERS OF THE dupRadar PACKAGE: Please make sure to use the following settings in order to reproduce any error or warning you see on this page. |
Package 514/1931 | Hostname | OS / Arch | INSTALL | BUILD | CHECK | BUILD BIN | ||||||
dupRadar 1.21.0 Sergi Sayols
| malbec2 | Linux (Ubuntu 20.04.1 LTS) / x86_64 | OK | OK | OK | ![]() | ||||||
tokay2 | Windows Server 2012 R2 Standard / x64 | ...NOT SUPPORTED... | ||||||||||
riesling1 | Windows Server 2019 Standard / x64 | ...NOT SUPPORTED... | ||||||||||
machv2 | macOS 10.14.6 Mojave / x86_64 | OK | OK | OK | [ OK ] | ![]() |
Package: dupRadar |
Version: 1.21.0 |
Command: rm -rf dupRadar.buildbin-libdir && mkdir dupRadar.buildbin-libdir && /Users/biocbuild/BBS/utils/build-universal.sh dupRadar_1.21.0.tar.gz /Library/Frameworks/R.framework/Versions/Current/Resources/bin/R dupRadar.buildbin-libdir |
StartedAt: 2021-01-17 06:02:33 -0500 (Sun, 17 Jan 2021) |
EndedAt: 2021-01-17 06:02:52 -0500 (Sun, 17 Jan 2021) |
EllapsedTime: 19.2 seconds |
RetCode: 0 |
Status: OK |
PackageFile: dupRadar_1.21.0.tgz |
PackageFileSize: 3.667 MiB |
############################################################################## ############################################################################## ### ### Running command: ### ### rm -rf dupRadar.buildbin-libdir && mkdir dupRadar.buildbin-libdir && /Users/biocbuild/BBS/utils/build-universal.sh dupRadar_1.21.0.tar.gz /Library/Frameworks/R.framework/Versions/Current/Resources/bin/R dupRadar.buildbin-libdir ### ############################################################################## ############################################################################## >>>>>>> >>>>>>> INSTALLATION WITH 'R CMD INSTALL --preclean --no-multiarch --library=dupRadar.buildbin-libdir dupRadar_1.21.0.tar.gz' >>>>>>> * installing *source* package ‘dupRadar’ ... ** using staged installation ** R ** data *** moving datasets to lazyload DB ** inst ** byte-compile and prepare package for lazy loading ** help *** installing help indices ** building package indices ** installing vignettes ** testing if installed package can be loaded from temporary location ** testing if installed package can be loaded from final location ** testing if installed package keeps a record of temporary installation path * DONE (dupRadar)