Back to Multiple platform build/check report for BioC 3.13 |
|
This page was generated on 2021-01-25 12:35:47 -0500 (Mon, 25 Jan 2021).
TO THE DEVELOPERS/MAINTAINERS OF THE dualKS PACKAGE: Please make sure to use the following settings in order to reproduce any error or warning you see on this page. |
Package 512/1938 | Hostname | OS / Arch | INSTALL | BUILD | CHECK | BUILD BIN | ||||||
dualKS 1.51.0 Eric J. Kort
| malbec2 | Linux (Ubuntu 20.04.1 LTS) / x86_64 | OK | OK | OK | ![]() | ||||||
tokay2 | Windows Server 2012 R2 Standard / x64 | OK | OK | OK | [ OK ] | ![]() | ||||||
riesling1 | Windows Server 2019 Standard / x64 | OK | OK | OK | OK | |||||||
machv2 | macOS 10.14.6 Mojave / x86_64 | OK | OK | OK | OK | ![]() |
Package: dualKS |
Version: 1.51.0 |
Command: rm -rf dualKS.buildbin-libdir && mkdir dualKS.buildbin-libdir && C:\Users\biocbuild\bbs-3.13-bioc\R\bin\R.exe CMD INSTALL --merge-multiarch --build --library=dualKS.buildbin-libdir dualKS_1.51.0.tar.gz |
StartedAt: 2021-01-25 11:11:35 -0500 (Mon, 25 Jan 2021) |
EndedAt: 2021-01-25 11:12:02 -0500 (Mon, 25 Jan 2021) |
EllapsedTime: 26.9 seconds |
RetCode: 0 |
Status: OK |
PackageFile: dualKS_1.51.0.zip |
PackageFileSize: 588.8 KiB |
############################################################################## ############################################################################## ### ### Running command: ### ### rm -rf dualKS.buildbin-libdir && mkdir dualKS.buildbin-libdir && C:\Users\biocbuild\bbs-3.13-bioc\R\bin\R.exe CMD INSTALL --merge-multiarch --build --library=dualKS.buildbin-libdir dualKS_1.51.0.tar.gz ### ############################################################################## ############################################################################## install for i386 * installing *source* package 'dualKS' ... ** using staged installation ** R ** data ** inst ** byte-compile and prepare package for lazy loading ** help *** installing help indices converting help for package 'dualKS' finding HTML links ... done KS html REDIRECT:topic KS -> KS.html [ SUCCESS ] class.DKSClassifier html REDIRECT:topic class:DKSClassifier -> class.DKSClassifier.html [ FAIL ] REDIRECT:topic DKSClassifier -> class.DKSClassifier.html [ SUCCESS ] REDIRECT:topic DKSClassifier-class -> class.DKSClassifier.html [ SUCCESS ] REDIRECT:file class.DKSClassifier.html -> class.DKSClassifier.html [ SUCCESS ] class.DKSGeneScores html REDIRECT:topic class:DKSGeneScores -> class.DKSGeneScores.html [ FAIL ] REDIRECT:topic DKSGeneScores -> class.DKSGeneScores.html [ SUCCESS ] REDIRECT:topic DKSGeneScores-class -> class.DKSGeneScores.html [ SUCCESS ] REDIRECT:file class.DKSGeneScores.html -> class.DKSGeneScores.html [ SUCCESS ] class.DKSGeneSet html REDIRECT:topic class:DKSGeneSet -> class.DKSGeneSet.html [ FAIL ] REDIRECT:topic DKSGeneSet -> class.DKSGeneSet.html [ SUCCESS ] REDIRECT:topic DKSGeneSet-class -> class.DKSGeneSet.html [ SUCCESS ] REDIRECT:file class.DKSGeneSet.html -> class.DKSGeneSet.html [ SUCCESS ] class.DKSPredicted html REDIRECT:topic class:DKSPredicted -> class.DKSPredicted.html [ FAIL ] REDIRECT:topic DKSPredicted -> class.DKSPredicted.html [ SUCCESS ] REDIRECT:topic DKSPredicted-class -> class.DKSPredicted.html [ SUCCESS ] REDIRECT:topic plot,DKSPredicted-method -> class.DKSPredicted.html [ SUCCESS ] REDIRECT:topic plot,DKSPredicted,missing-method -> class.DKSPredicted.html [ SUCCESS ] REDIRECT:topic show,DKSPredicted-method -> class.DKSPredicted.html [ SUCCESS ] REDIRECT:topic summary,DKSPredicted-method -> class.DKSPredicted.html [ SUCCESS ] REDIRECT:file class.DKSPredicted.html -> class.DKSPredicted.html [ SUCCESS ] dks html REDIRECT:topic dks -> dks.html [ SUCCESS ] REDIRECT:topic eset -> dks.html [ SUCCESS ] REDIRECT:topic pv.f -> dks.html [ SUCCESS ] REDIRECT:topic pvr.f -> dks.html [ SUCCESS ] dksClassify html REDIRECT:topic dksClassify -> dksClassify.html [ SUCCESS ] dksCustomClass html REDIRECT:topic dksCustomClass -> dksCustomClass.html [ SUCCESS ] dksPerm html REDIRECT:topic dksPerm -> dksPerm.html [ SUCCESS ] dksSelectGenes html REDIRECT:topic dksSelectGenes -> dksSelectGenes.html [ SUCCESS ] dksTrain html REDIRECT:topic dksTrain -> dksTrain.html [ SUCCESS ] dksWeights html REDIRECT:topic dksWeights -> dksWeights.html [ SUCCESS ] dualKS-package html REDIRECT:topic dualKS-package -> dualKS-package.html [ SUCCESS ] REDIRECT:topic dualKS -> dualKS-package.html [ SUCCESS ] ** building package indices ** installing vignettes ** testing if installed package can be loaded from temporary location ** testing if installed package can be loaded from final location ** testing if installed package keeps a record of temporary installation path install for x64 * installing *source* package 'dualKS' ... ** testing if installed package can be loaded * MD5 sums packaged installation of 'dualKS' as dualKS_1.51.0.zip * DONE (dualKS)