Back to Multiple platform build/check report for BioC 3.13
ABC[D]EFGHIJKLMNOPQRSTUVWXYZ

INSTALL report for dualKS on malbec2

This page was generated on 2021-01-25 12:32:54 -0500 (Mon, 25 Jan 2021).

TO THE DEVELOPERS/MAINTAINERS OF THE dualKS PACKAGE: Please make sure to use the following settings in order to reproduce any error or warning you see on this page.
Package 512/1938HostnameOS / ArchINSTALLBUILDCHECKBUILD BIN
dualKS 1.51.0
Eric J. Kort
Snapshot Date: 2021-01-24 14:40:26 -0500 (Sun, 24 Jan 2021)
URL: https://git.bioconductor.org/packages/dualKS
Branch: master
Last Commit: e27f200
Last Changed Date: 2020-10-27 10:55:06 -0500 (Tue, 27 Oct 2020)
malbec2 Linux (Ubuntu 20.04.1 LTS) / x86_64 [ OK ] OK  OK UNNEEDED, same version exists in internal repository
tokay2 Windows Server 2012 R2 Standard / x64  OK  OK  OK  OK UNNEEDED, same version exists in internal repository
riesling1 Windows Server 2019 Standard / x64  OK  OK  OK  OK 
machv2 macOS 10.14.6 Mojave / x86_64  OK  OK  OK  OK UNNEEDED, same version exists in internal repository

Summary

Package: dualKS
Version: 1.51.0
Command: /home/biocbuild/bbs-3.13-bioc/R/bin/R CMD INSTALL dualKS
StartedAt: 2021-01-24 16:15:57 -0500 (Sun, 24 Jan 2021)
EndedAt: 2021-01-24 16:16:03 -0500 (Sun, 24 Jan 2021)
EllapsedTime: 6.1 seconds
RetCode: 0
Status:  OK 

Command output

##############################################################################
##############################################################################
###
### Running command:
###
###   /home/biocbuild/bbs-3.13-bioc/R/bin/R CMD INSTALL dualKS
###
##############################################################################
##############################################################################


* installing to library ‘/home/biocbuild/bbs-3.13-bioc/R/library’
* installing *source* package ‘dualKS’ ...
** using staged installation
** R
** data
** byte-compile and prepare package for lazy loading
** help
*** installing help indices
** building package indices
** installing vignettes
** testing if installed package can be loaded from temporary location
** testing if installed package can be loaded from final location
** testing if installed package keeps a record of temporary installation path
* DONE (dualKS)