Back to Multiple platform build/check report for BioC 3.13
ABC[D]EFGHIJKLMNOPQRSTUVWXYZ

Multiple platform build/check report for BioC 3.13

Results for dualKS

This page was generated on 2020-11-29 11:58:04 -0500 (Sun, 29 Nov 2020).

Package 507/1914HostnameOS / ArchINSTALLBUILDCHECKBUILD BIN
dualKS 1.51.0
Eric J. Kort
Snapshot Date: 2020-11-28 14:40:21 -0500 (Sat, 28 Nov 2020)
URL: https://git.bioconductor.org/packages/dualKS
Branch: master
Last Commit: e27f200
Last Changed Date: 2020-10-27 10:55:06 -0500 (Tue, 27 Oct 2020)
malbec2 Linux (Ubuntu 20.04.1 LTS) / x86_64  OK  OK  OK UNNEEDED, same version exists in internal repository
tokay2 Windows Server 2012 R2 Standard / x64  OK  OK  OK  OK UNNEEDED, same version exists in internal repository
riesling1 Windows Server 2019 Standard / x64  OK  OK  OK  OK 
machv2 macOS 10.14.6 Mojave / x86_64  OK  OK  OK  OK UNNEEDED, same version exists in internal repository