Index of /checkResults/devel/bioc-LATEST/drugTargetInteractions/raw-results/palomino4

[ICO]NameLast modifiedSizeDescription

[DIR]Parent Directory  -  
[TXT]buildbin-out.txt25-Jun-2022 00:06 1.3K 
[   ]buildbin-summary.dcf25-Jun-2022 00:06 620  
[TXT]buildsrc-out.txt25-Jun-2022 00:06 946  
[   ]buildsrc-summary.dcf25-Jun-2022 00:06 511  
[TXT]checksrc-out.txt25-Jun-2022 00:06 3.6K 
[   ]checksrc-summary.dcf25-Jun-2022 00:06 508  
[TXT]install-out.txt25-Jun-2022 00:06 2.0K 
[   ]install-summary.dcf25-Jun-2022 00:06 757