Index of /checkResults/devel/bioc-LATEST/drugTargetInteractions/raw-results/nebbiolo2

[ICO]NameLast modifiedSizeDescription

[DIR]Parent Directory  -  
[TXT]buildsrc-out.txt02-Jul-2022 00:04 897  
[   ]buildsrc-summary.dcf02-Jul-2022 00:04 461  
[TXT]checksrc-out.txt02-Jul-2022 00:04 3.6K 
[   ]checksrc-summary.dcf02-Jul-2022 00:04 482  
[TXT]install-out.txt02-Jul-2022 00:04 1.0K 
[   ]install-summary.dcf02-Jul-2022 00:04 288