Back to Multiple platform build/check report for BioC 3.14
ABC[D]EFGHIJKLMNOPQRSTUVWXYZ

This page was generated on 2021-10-22 12:04:24 -0400 (Fri, 22 Oct 2021).

INSTALL results for doseR on riesling1

To the developers/maintainers of the doseR package:
- Please allow up to 24 hours (and sometimes 48 hours) for your latest push to git@git.bioconductor.org:packages/doseR.git to
reflect on this report. See How and When does the builder pull? When will my changes propagate? here for more information.
- Make sure to use the following settings in order to reproduce any error or warning you see on this page.

raw results

Package 535/2075HostnameOS / ArchINSTALLBUILDCHECKBUILD BIN
doseR 1.9.0  (landing page)
ake.vastermark
Snapshot Date: 2021-10-21 14:50:08 -0400 (Thu, 21 Oct 2021)
git_url: https://git.bioconductor.org/packages/doseR
git_branch: master
git_last_commit: 8ccc422
git_last_commit_date: 2021-05-19 12:41:19 -0400 (Wed, 19 May 2021)
nebbiolo2Linux (Ubuntu 20.04.2 LTS) / x86_64  OK    OK    OK  UNNEEDED, same version is already published
riesling1Windows Server 2019 Standard / x64  OK    OK    OK    OK  UNNEEDED, same version is already published
merida1macOS 10.14.6 Mojave / x86_64  OK    OK    OK    OK  UNNEEDED, same version is already published

Summary

Package: doseR
Version: 1.9.0
Command: C:\cygwin\bin\curl.exe -O http://155.52.207.166/BBS/3.14/bioc/src/contrib/doseR_1.9.0.tar.gz && rm -rf doseR.buildbin-libdir && mkdir doseR.buildbin-libdir && D:\biocbuild\bbs-3.14-bioc\R\bin\R.exe CMD INSTALL --merge-multiarch --build --library=doseR.buildbin-libdir doseR_1.9.0.tar.gz && D:\biocbuild\bbs-3.14-bioc\R\bin\R.exe CMD INSTALL doseR_1.9.0.zip && rm doseR_1.9.0.tar.gz doseR_1.9.0.zip
StartedAt: 2021-10-21 17:44:49 -0400 (Thu, 21 Oct 2021)
EndedAt: 2021-10-21 17:47:47 -0400 (Thu, 21 Oct 2021)
EllapsedTime: 178.5 seconds
RetCode: 0
Status:   OK  

Command output

##############################################################################
##############################################################################
###
### Running command:
###
###   C:\cygwin\bin\curl.exe -O http://155.52.207.166/BBS/3.14/bioc/src/contrib/doseR_1.9.0.tar.gz && rm -rf doseR.buildbin-libdir && mkdir doseR.buildbin-libdir && D:\biocbuild\bbs-3.14-bioc\R\bin\R.exe CMD INSTALL --merge-multiarch --build --library=doseR.buildbin-libdir doseR_1.9.0.tar.gz && D:\biocbuild\bbs-3.14-bioc\R\bin\R.exe CMD INSTALL doseR_1.9.0.zip && rm doseR_1.9.0.tar.gz doseR_1.9.0.zip
###
##############################################################################
##############################################################################


  % Total    % Received % Xferd  Average Speed   Time    Time     Time  Current
                                 Dload  Upload   Total   Spent    Left  Speed

  0     0    0     0    0     0      0      0 --:--:-- --:--:-- --:--:--     0
 89  785k   89  703k    0     0  1181k      0 --:--:-- --:--:-- --:--:-- 1179k
100  785k  100  785k    0     0  1238k      0 --:--:-- --:--:-- --:--:-- 1236k

install for i386

* installing *source* package 'doseR' ...
** using staged installation
** R
** data
** inst
** byte-compile and prepare package for lazy loading
** help
*** installing help indices
  converting help for package 'doseR'
    finding HTML links ... done
    dafs                                    html  
    dafsFilter                              html  
    generateStats                           html  
    getLibsizes3                            html  
    glSeq                                   html  
    hmel.dat                                html  
    iqrxFilter                              html  
    make_RPKM                               html  
    plotExpr                                html  
    plotMA.se                               html  
    plotRatioBoxes                          html  
    plotRatioDensity                        html  
    quantFilter                             html  
    se.DM                                   html  
    se                                      html  
    simpleFilter                            html  
    test_diffs                              html  
** building package indices
** installing vignettes
** testing if installed package can be loaded from temporary location
** testing if installed package can be loaded from final location
** testing if installed package keeps a record of temporary installation path

install for x64

* installing *source* package 'doseR' ...
** testing if installed package can be loaded
* MD5 sums
packaged installation of 'doseR' as doseR_1.9.0.zip
* DONE (doseR)
* installing to library 'D:/biocbuild/bbs-3.14-bioc/R/library'
package 'doseR' successfully unpacked and MD5 sums checked