Back to Multiple platform build/check report for BioC 3.15
ABC[D]EFGHIJKLMNOPQRSTUVWXYZ

This page was generated on 2021-11-27 14:05:00 -0500 (Sat, 27 Nov 2021).

BUILD BIN results for doseR on riesling1

To the developers/maintainers of the doseR package:
- Please allow up to 24 hours (and sometimes 48 hours) for your latest push to git@git.bioconductor.org:packages/doseR.git to
reflect on this report. See How and When does the builder pull? When will my changes propagate? here for more information.
- Make sure to use the following settings in order to reproduce any error or warning you see on this page.

raw results

Package 535/2068HostnameOS / ArchINSTALLBUILDCHECKBUILD BIN
doseR 1.11.1  (landing page)
ake.vastermark
Snapshot Date: 2021-11-26 14:50:14 -0500 (Fri, 26 Nov 2021)
git_url: https://git.bioconductor.org/packages/doseR
git_branch: master
git_last_commit: a2e222d
git_last_commit_date: 2021-11-20 23:36:20 -0500 (Sat, 20 Nov 2021)
nebbiolo1Linux (Ubuntu 20.04.3 LTS) / x86_64  OK    OK    OK  UNNEEDED, same version is already published
riesling1Windows Server 2019 Standard / x64  OK    OK    OK    OK  
merida1macOS 10.14.6 Mojave / x86_64  OK    OK    OK    OK  UNNEEDED, same version is already published

Summary

Package: doseR
Version: 1.11.1
Command: rm -rf doseR.buildbin-libdir && mkdir doseR.buildbin-libdir && D:\biocbuild\bbs-3.15-bioc\R\bin\R.exe CMD INSTALL --merge-multiarch --build --library=doseR.buildbin-libdir doseR_1.11.1.tar.gz
StartedAt: 2021-11-27 05:49:52 -0500 (Sat, 27 Nov 2021)
EndedAt: 2021-11-27 05:54:32 -0500 (Sat, 27 Nov 2021)
EllapsedTime: 279.7 seconds
RetCode: 0
Status:   OK  
PackageFile: doseR_1.11.1.zip
PackageFileSize: 1023 KiB

Command output

##############################################################################
##############################################################################
###
### Running command:
###
###   rm -rf doseR.buildbin-libdir && mkdir doseR.buildbin-libdir && D:\biocbuild\bbs-3.15-bioc\R\bin\R.exe CMD INSTALL --merge-multiarch --build --library=doseR.buildbin-libdir doseR_1.11.1.tar.gz
###
##############################################################################
##############################################################################


only one architecture so ignoring '--merge-multiarch'
* installing *source* package 'doseR' ...
** using staged installation
** R
** data
** inst
** byte-compile and prepare package for lazy loading
** help
*** installing help indices
  converting help for package 'doseR'
    finding HTML links ... done
    dafs                                    html  
    dafsFilter                              html  
    generateStats                           html  
    getLibsizes3                            html  
    glSeq                                   html  
    hmel.dat                                html  
    iqrxFilter                              html  
    make_RPKM                               html  
    plotExpr                                html  
    plotMA.se                               html  
    plotRatioBoxes                          html  
    plotRatioDensity                        html  
    quantFilter                             html  
    se.DM                                   html  
    se                                      html  
    simpleFilter                            html  
    test_diffs                              html  
** building package indices
** installing vignettes
** testing if installed package can be loaded from temporary location
** testing if installed package can be loaded from final location
** testing if installed package keeps a record of temporary installation path
* MD5 sums
packaged installation of 'doseR' as doseR_1.11.1.zip
* DONE (doseR)