Back to Multiple platform build/check report for BioC 3.15
ABC[D]EFGHIJKLMNOPQRSTUVWXYZ

This page was generated on 2021-11-30 13:54:51 -0500 (Tue, 30 Nov 2021).

BUILD results for doppelgangR on riesling1

To the developers/maintainers of the doppelgangR package:
- Please allow up to 24 hours (and sometimes 48 hours) for your latest push to git@git.bioconductor.org:packages/doppelgangR.git to
reflect on this report. See How and When does the builder pull? When will my changes propagate? here for more information.
- Make sure to use the following settings in order to reproduce any error or warning you see on this page.

raw results

Package 532/2068HostnameOS / ArchINSTALLBUILDCHECKBUILD BIN
doppelgangR 1.23.0  (landing page)
Levi Waldron
Snapshot Date: 2021-11-29 14:50:17 -0500 (Mon, 29 Nov 2021)
git_url: https://git.bioconductor.org/packages/doppelgangR
git_branch: master
git_last_commit: 8b1f509
git_last_commit_date: 2021-10-26 12:26:10 -0500 (Tue, 26 Oct 2021)
nebbiolo1Linux (Ubuntu 20.04.3 LTS) / x86_64  OK    OK    OK  UNNEEDED, same version is already published
riesling1Windows Server 2019 Standard / x64  OK    OK    OK    OK  
merida1macOS 10.14.6 Mojave / x86_64  OK    OK    OK    OK  UNNEEDED, same version is already published

Summary

Package: doppelgangR
Version: 1.23.0
Command: chmod a+r doppelgangR -R && D:\biocbuild\bbs-3.15-bioc\R\bin\R.exe CMD build --keep-empty-dirs --no-resave-data doppelgangR
StartedAt: 2021-11-29 21:02:52 -0500 (Mon, 29 Nov 2021)
EndedAt: 2021-11-29 21:07:09 -0500 (Mon, 29 Nov 2021)
EllapsedTime: 257.0 seconds
RetCode: 0
Status:   OK  
PackageFile: doppelgangR_1.23.0.tar.gz
PackageFileSize: 329.1 KiB

Command output

##############################################################################
##############################################################################
###
### Running command:
###
###   chmod a+r doppelgangR -R && D:\biocbuild\bbs-3.15-bioc\R\bin\R.exe CMD build --keep-empty-dirs --no-resave-data doppelgangR
###
##############################################################################
##############################################################################


* checking for file 'doppelgangR/DESCRIPTION' ... OK
* preparing 'doppelgangR':
* checking DESCRIPTION meta-information ... OK
* installing the package to build vignettes
* creating vignettes ... OK
* checking for LF line-endings in source and make files and shell scripts
* checking for empty or unneeded directories
* building 'doppelgangR_1.23.0.tar.gz'